BEGIN:VCALENDAR
VERSION:2.0
PRODID:-//Uittamo - ECPv6.3.5//NONSGML v1.0//EN
CALSCALE:GREGORIAN
METHOD:PUBLISH
X-WR-CALNAME:Uittamo
X-ORIGINAL-URL:https://uittamo.fi
X-WR-CALDESC:Events for Uittamo
REFRESH-INTERVAL;VALUE=DURATION:PT1H
X-Robots-Tag:noindex
X-PUBLISHED-TTL:PT1H
BEGIN:VTIMEZONE
TZID:UTC
BEGIN:STANDARD
TZOFFSETFROM:+0000
TZOFFSETTO:+0000
TZNAME:UTC
DTSTART:20240101T000000
END:STANDARD
END:VTIMEZONE
BEGIN:VEVENT
DTSTART;TZID=UTC:20240501T120000
DTEND;TZID=UTC:20240501T160000
DTSTAMP:20260424T000214
CREATED:20240402T082309Z
LAST-MODIFIED:20240429T174504Z
UID:6780-1714564800-1714579200@uittamo.fi
SUMMARY:Vappubrunssi *loppuunvarattu*
DESCRIPTION:Uittamo Paviljongin perinteinen vappubrunssi 1.5.2024 klo 12-16.  \n \nVappubrunssin hinta 34€ / kuohuviinilasilla 39 €.  \nLapset alle 2v syövät ilmaiseksi.  \nLapset 3-12 v. 2€ / ikävuosi.  \nBrunssi on loppuunvarattu! \nmari@staralone.fi / 0409003841  \n  \n 
URL:https://uittamo.fi/event/vappubrunssi/
LOCATION:Uittamo Paviljonki\, Rykmentintie 29\, TURKU\, 20880\, Suomi
CATEGORIES:Juoma,Ruoka
ATTACH;FMTTYPE=image/jpeg:https://uittamo.fi/wp-content/uploads/2024/04/d464b906-1a53-4f2e-9159-1b7f868fc918-e1712045993525.jpg
END:VEVENT
END:VCALENDAR