BEGIN:VCALENDAR
VERSION:2.0
PRODID:-//Uittamo - ECPv6.3.5//NONSGML v1.0//EN
CALSCALE:GREGORIAN
METHOD:PUBLISH
X-ORIGINAL-URL:https://uittamo.fi
X-WR-CALDESC:Events for Uittamo
REFRESH-INTERVAL;VALUE=DURATION:PT1H
X-Robots-Tag:noindex
X-PUBLISHED-TTL:PT1H
BEGIN:VTIMEZONE
TZID:UTC
BEGIN:STANDARD
TZOFFSETFROM:+0000
TZOFFSETTO:+0000
TZNAME:UTC
DTSTART:20250101T000000
END:STANDARD
END:VTIMEZONE
BEGIN:VEVENT
DTSTART;TZID=UTC:20250501T120000
DTEND;TZID=UTC:20250501T160000
DTSTAMP:20260423T061548
CREATED:20250109T164753Z
LAST-MODIFIED:20250428T102437Z
UID:7305-1746100800-1746115200@uittamo.fi
SUMMARY:Vappubrunssi
DESCRIPTION:Paviljongin perinteinen vappubrunssi tarjoillaan upeissa Uittamon merellisissä maisemissa 1.5.2025. klo 12-16.\n*loppuunvarattu* \nVuoden 2025 vappubrunssin menu tulee tässä voilà \nVAPPUBRUNSSI\n1.5.2025 klo 12–16  \nKylmät  \nRevittyä vihersalaattia ja talon pikkelit VEG \, Marinoitua kaalisalaattia VEG\, Lohipastasalaattia L\, Keittiömestarin sillilajitelma LG\, Kananmunan puolikkaita ja talon majoneesia LG\, Cocktailpiirakoita ja munavoita L\, Uittamo skagenia ja Talon leipää\, Tomaatti-Mozzarella salaattia LG\, Maalaissalaattia MG\, Marinoitua härkää LG  \nLämpimät \nPaistettua pekonia\, nakkeja ja lihapullia LG\, Paahdettua lohta ja aiolia LG\, Keittiömestarin härkää\, Tofu ratatouille VEG\, Paahdettuja perunoita VEG Leipä ja levite L  \nJälkeen \nTalon itsepaistettuja munkkeja L\, Croissanteja\, juustoa ja hilloa\, \nVaahtokarkkia\, Porkkanakakkua L \nKahvia ja teetä \n34 €/ Kuohuviinilasilla 39 € \nLapset alle 2 v. ilmainen lapset 3-12 v. 2 €/ ikävuosi \nVaraukset: mari@staralone.fi/ tai 0409003841  
URL:https://uittamo.fi/event/vappubrunssi-2/
LOCATION:Uittamo Paviljonki\, Rykmentintie 29\, TURKU\, 20880\, Suomi
CATEGORIES:Juoma,Ruoka
ATTACH;FMTTYPE=image/jpeg:https://uittamo.fi/wp-content/uploads/2024/04/d464b906-1a53-4f2e-9159-1b7f868fc918-e1712045993525.jpg
END:VEVENT
END:VCALENDAR