BEGIN:VCALENDAR
VERSION:2.0
PRODID:-//Uittamo - ECPv6.3.5//NONSGML v1.0//EN
CALSCALE:GREGORIAN
METHOD:PUBLISH
X-ORIGINAL-URL:https://uittamo.fi
X-WR-CALDESC:Events for Uittamo
REFRESH-INTERVAL;VALUE=DURATION:PT1H
X-Robots-Tag:noindex
X-PUBLISHED-TTL:PT1H
BEGIN:VTIMEZONE
TZID:UTC
BEGIN:STANDARD
TZOFFSETFROM:+0000
TZOFFSETTO:+0000
TZNAME:UTC
DTSTART:20220101T000000
END:STANDARD
END:VTIMEZONE
BEGIN:VEVENT
DTSTART;VALUE=DATE:20250711
DTEND;VALUE=DATE:20250713
DTSTAMP:20260422T125833
CREATED:20250110T100649Z
LAST-MODIFIED:20250221T095139Z
UID:7311-1752192000-1752364799@uittamo.fi
SUMMARY:Metallivuori
DESCRIPTION:11.-12.7.2025 on se hetki\, kun Metallivuori Festivaali valtaa Uittamon kansanpuiston ja tuo paikalle ne bändit\, jotka saavat sydämesi sykkimään ja pään moshaamaan! Kolmatta kertaa Turussa järjestettävällä Metallivuori -festivaalilla voit purkaa angstisi metallisen musiikin tahtiin! \nLukuisista bändeistä löydät Suomen Metallin raskaita titaaneja ja lupaavimpia tulokkaita. Anna itsesi lumoutua kitarasooloista ja voimakkaista vokaaleista\, kun nämä taikurit vetävät esityksensä taivaisiin samalla nauttien tunnelmasta vehreän kansanpuiston sylissä\, missä raskaat riffit kohtaavat luonnon kauneuden! Jokainen nuotti kuuluu kristallinkirkkaasti\, kun mestarilliset ääniteknikot takaavat\, että musiikki kantautuu syvälle sieluusi. \nFestivaalin herkkubileet takaavat\, että energiasi pysyy ylhäällä ja makuhermojasi hemmotellaan kiinteässä ja nesteisessä muodoissaan. \nMetallivuori on enemmän kuin festivaali\, se on yhteisö. Tule mukaan jakamaan intohimosi musiikkiin ja löytämään uusia ystäviä! \nHanki liput nyt ja varmista paikkasi Metallivuori Festivaalilla. Tämä on tapahtuma\, jossa sinun tulee olla! \nLue lisää tapahtumasta ja osta liput täältä: https://metallivuori.fi/
URL:https://uittamo.fi/event/metallivuori-2/
LOCATION:Uittamo Paviljonki\, Rykmentintie 29\, TURKU\, 20880\, Suomi
CATEGORIES:Juoma,Keikat,Musiikki,Ruoka
ATTACH;FMTTYPE=image/png:https://uittamo.fi/wp-content/uploads/2025/01/Metallivuori.png
END:VEVENT
BEGIN:VEVENT
DTSTART;VALUE=DATE:20250627
DTEND;VALUE=DATE:20250629
DTSTAMP:20260422T125834
CREATED:20250110T100405Z
LAST-MODIFIED:20250221T093058Z
UID:7309-1750982400-1751155199@uittamo.fi
SUMMARY:Turun Viinijuhlat
DESCRIPTION:Turun Viinijuhlat järjestetään 27.-28.6.2025 Uittamon Kansanpuistossa\, vain kivenheiton päässä kaupungin keskustasta! \nTurun Viinijuhlat tarjoavat unohtumattoman elämyksen hyvän viinin\, herkullisen ruoan ja upean musiikin parissa. \nEarly Bird liput nyt myynnissä! Ole nopea ja varmista lippusi ajoissa ennen kuin hinnat nousevat! \nLisätietoja tapahtumasta ja liput löydät täältä: https://turunviinijuhlat.fi/liput/ \n 
URL:https://uittamo.fi/event/turun-viinijuhlat/
LOCATION:Uittamo Paviljonki\, Rykmentintie 29\, TURKU\, 20880\, Suomi
CATEGORIES:Juoma,Keikat,Musiikki,Ruoka
ATTACH;FMTTYPE=image/png:https://uittamo.fi/wp-content/uploads/2025/01/viinijuhlat.png
END:VEVENT
BEGIN:VEVENT
DTSTART;TZID=UTC:20250501T120000
DTEND;TZID=UTC:20250501T160000
DTSTAMP:20260422T125834
CREATED:20250109T164753Z
LAST-MODIFIED:20250428T102437Z
UID:7305-1746100800-1746115200@uittamo.fi
SUMMARY:Vappubrunssi
DESCRIPTION:Paviljongin perinteinen vappubrunssi tarjoillaan upeissa Uittamon merellisissä maisemissa 1.5.2025. klo 12-16.\n*loppuunvarattu* \nVuoden 2025 vappubrunssin menu tulee tässä voilà \nVAPPUBRUNSSI\n1.5.2025 klo 12–16  \nKylmät  \nRevittyä vihersalaattia ja talon pikkelit VEG \, Marinoitua kaalisalaattia VEG\, Lohipastasalaattia L\, Keittiömestarin sillilajitelma LG\, Kananmunan puolikkaita ja talon majoneesia LG\, Cocktailpiirakoita ja munavoita L\, Uittamo skagenia ja Talon leipää\, Tomaatti-Mozzarella salaattia LG\, Maalaissalaattia MG\, Marinoitua härkää LG  \nLämpimät \nPaistettua pekonia\, nakkeja ja lihapullia LG\, Paahdettua lohta ja aiolia LG\, Keittiömestarin härkää\, Tofu ratatouille VEG\, Paahdettuja perunoita VEG Leipä ja levite L  \nJälkeen \nTalon itsepaistettuja munkkeja L\, Croissanteja\, juustoa ja hilloa\, \nVaahtokarkkia\, Porkkanakakkua L \nKahvia ja teetä \n34 €/ Kuohuviinilasilla 39 € \nLapset alle 2 v. ilmainen lapset 3-12 v. 2 €/ ikävuosi \nVaraukset: mari@staralone.fi/ tai 0409003841  
URL:https://uittamo.fi/event/vappubrunssi-2/
LOCATION:Uittamo Paviljonki\, Rykmentintie 29\, TURKU\, 20880\, Suomi
CATEGORIES:Juoma,Ruoka
ATTACH;FMTTYPE=image/jpeg:https://uittamo.fi/wp-content/uploads/2024/04/d464b906-1a53-4f2e-9159-1b7f868fc918-e1712045993525.jpg
END:VEVENT
BEGIN:VEVENT
DTSTART;TZID=UTC:20250430T160000
DTEND;TZID=UTC:20250430T220000
DTSTAMP:20260422T125834
CREATED:20250109T164336Z
LAST-MODIFIED:20250428T102516Z
UID:7303-1746028800-1746050400@uittamo.fi
SUMMARY:Uittamon perinteiset vappukarkelot ja uuden terassin avajaiset
DESCRIPTION:Perinteiseen tapaan päräytetään Uittamo Paviljongin kesäkausi käyntiin vappuaattona! \nUittamon Vappukarkelot tuo Uittamon kaverit yhteen vappuaattona\, jolloin juhlistetaan alkavan kesäkauden avajaisia sekä uuden\, isomman terassin avajaisia. Illan kruunaa Kakkupoikien show klo 20. \nKannattaa tulla ajoissa paikalle\, sillä avajaisten kunniaksi on happy hour -tarjouksia klo 16-19!\nLiput 10e ovelta. \nVappuaaton brunssi on katettuna klo 16-19. Tarjolla salaatteja\, pekonia\, nakkeja\, lihapullia\, perunia ja tietenkin itse paistettuja munkkeja. Brunssin hinta 19€/hlö. \nTervetuloa juhlimaan kesän 2025 ensimmäisiä juhlia! \nLaita kalenteriin ylös ja kerro myös kaverille!
URL:https://uittamo.fi/event/vappuaaton-juhlat-ravintolan-avajaiset/
LOCATION:Uittamo Paviljonki\, Rykmentintie 29\, TURKU\, 20880\, Suomi
CATEGORIES:Juoma,Musiikki
ATTACH;FMTTYPE=image/jpeg:https://uittamo.fi/wp-content/uploads/2024/06/WhatsApp-Image-2024-06-11-at-23.18.46.jpeg
END:VEVENT
BEGIN:VEVENT
DTSTART;TZID=UTC:20240512T120000
DTEND;TZID=UTC:20240512T180000
DTSTAMP:20260422T125834
CREATED:20240402T083110Z
LAST-MODIFIED:20240507T184919Z
UID:6785-1715515200-1715536800@uittamo.fi
SUMMARY:Äitienpäivä *loppuunvarattu*
DESCRIPTION:On aika juhlistaa ihmeellisen ihania ja tärkeitä ihmisiä – äitejä.  \nÄitienpäivä 2024 vietetään Uittamolla su 12.5. klo 12-18.  \nNoutopöydän menu Uittamo Paviljongissa: \n \n*LOPPUUNVARATTU* \n 
URL:https://uittamo.fi/event/aitienpaiva/
LOCATION:Uittamo Paviljonki\, Rykmentintie 29\, TURKU\, 20880\, Suomi
CATEGORIES:Juoma,Ruoka
ATTACH;FMTTYPE=image/png:https://uittamo.fi/wp-content/uploads/2024/04/Screenshot-2024-04-02-at-11.27.25-e1712491620639.png
END:VEVENT
BEGIN:VEVENT
DTSTART;TZID=UTC:20240501T120000
DTEND;TZID=UTC:20240501T160000
DTSTAMP:20260422T125834
CREATED:20240402T082309Z
LAST-MODIFIED:20240429T174504Z
UID:6780-1714564800-1714579200@uittamo.fi
SUMMARY:Vappubrunssi *loppuunvarattu*
DESCRIPTION:Uittamo Paviljongin perinteinen vappubrunssi 1.5.2024 klo 12-16.  \n \nVappubrunssin hinta 34€ / kuohuviinilasilla 39 €.  \nLapset alle 2v syövät ilmaiseksi.  \nLapset 3-12 v. 2€ / ikävuosi.  \nBrunssi on loppuunvarattu! \nmari@staralone.fi / 0409003841  \n  \n 
URL:https://uittamo.fi/event/vappubrunssi/
LOCATION:Uittamo Paviljonki\, Rykmentintie 29\, TURKU\, 20880\, Suomi
CATEGORIES:Juoma,Ruoka
ATTACH;FMTTYPE=image/jpeg:https://uittamo.fi/wp-content/uploads/2024/04/d464b906-1a53-4f2e-9159-1b7f868fc918-e1712045993525.jpg
END:VEVENT
BEGIN:VEVENT
DTSTART;TZID=UTC:20240430T160000
DTEND;TZID=UTC:20240430T230000
DTSTAMP:20260422T125834
CREATED:20240402T081714Z
LAST-MODIFIED:20240402T081714Z
UID:6777-1714492800-1714518000@uittamo.fi
SUMMARY:Avajaiset ja vappukarkelot
DESCRIPTION:On taas Uittamo Paviljongin avajaisten ja perinteisten vappukarkeloiden aika.  \nOvet aukeaa klo 16. Ohjelmassa vappuaaton brunssi ja illan kruunaa Kakkupojat klo 20.  \nLiput 12e brunssin kanssa 25e.  \nTervetuloa juhlimaan kanssamme kesän 2024 ensimmäiset juhlat. 
URL:https://uittamo.fi/event/avajaiset-ja-vappukarkelot/
LOCATION:Uittamo Paviljonki\, Rykmentintie 29\, TURKU\, 20880\, Suomi
CATEGORIES:Juoma,Keikat,Musiikki,Ruoka
ATTACH;FMTTYPE=image/jpeg:https://uittamo.fi/wp-content/uploads/2022/03/kesa-scaled-e1712045457101.jpg
END:VEVENT
BEGIN:VEVENT
DTSTART;TZID=UTC:20231031T080000
DTEND;TZID=UTC:20231031T170000
DTSTAMP:20260422T125834
CREATED:20240628T150029Z
LAST-MODIFIED:20231031T131730Z
UID:6353-1698739200-1698771600@uittamo.fi
SUMMARY:Turun Viinijuhlat 2024
DESCRIPTION:Turun Viinijuhlat järjestetään Uittamo Paviljongilla 28-29.6.2024. Luvassa jälleen rentoa meininkiä loistavia viinejä\, musiikkia ja tunnelmaa.
URL:https://uittamo.fi/event/turun-viinijuhlat-2024/
CATEGORIES:Juoma,Keikat,Musiikki,Ruoka,Tanssit
ATTACH;FMTTYPE=image/jpeg:https://uittamo.fi/wp-content/uploads/2023/10/Turun-viinijuhlat.jpeg
END:VEVENT
BEGIN:VEVENT
DTSTART;VALUE=DATE:20230721
DTEND;VALUE=DATE:20230723
DTSTAMP:20260422T125834
CREATED:20230626T213724Z
LAST-MODIFIED:20230626T213724Z
UID:5866-1689897600-1690070399@uittamo.fi
SUMMARY:Turun Viinijuhlat 2023
DESCRIPTION:Turun Viinijuhlat järjestetään 21.-22.7. Uittamon Kansanpuistossa\, vain kivenheiton päässä kaupungin keskustasta! \nEnsimmäistä kertaa Turussa tavattavilla Viinijuhlilla voit nauttia virkistävästä viikonlopusta viinijoogassa tai vaikka omassa tastingissä. Kesä ja luonto luovat poikkeuksellisen upean elämyksen Uittamolle\, eikä hyvästä seurasta ole puute. Lukuisat huippuesiintyjät kiihdyttävät tunnelman kattoon viikonlopun aikana! \nVIP-lippuun kuuluu pääsy erilliselle VIP-alueelle\, herkullinen buffet-ruokailu\, omat wc-tilat\, oma ravintolasiipi ja oma terassi.\nVIP alueelta on näköyhteys toiselle lavalle. \nLiput myynnissä nyt! \nhttps://www.ticketmaster.fi/artist/turun-viinijuhlat-lippuja/1200593#tapahtumat \nPe 21.7.2023 13.00 – 01:30\nLa 22.7.2023 12:00 – 01:30 \nwww.turunviinijuhlat.fi
URL:https://uittamo.fi/event/turun-viinijuhlat-2023/
LOCATION:Uittamo Paviljonki\, Rykmentintie 29\, TURKU\, 20880\, Suomi
CATEGORIES:Juoma,Keikat,Musiikki,Ruoka
ATTACH;FMTTYPE=image/png:https://uittamo.fi/wp-content/uploads/2023/06/Uittamo.fi-800-x-450-px.png
ORGANIZER;CN="Uittamo Paviljonki":MAILTO:mari@lonestar.fi
END:VEVENT
BEGIN:VEVENT
DTSTART;TZID=UTC:20230714T143000
DTEND;TZID=UTC:20230715T233000
DTSTAMP:20260422T125834
CREATED:20230514T200114Z
LAST-MODIFIED:20230514T200931Z
UID:5562-1689345000-1689463800@uittamo.fi
SUMMARY:Metallivuori 2023
DESCRIPTION:Metallivuori 2023 \nMetallivuori 2023 järjestetään heinäkuun 14.-15. päivä Turussa Uittamon kansanpuistossa\, jossa meri\, metsä ja puisto kohtaavat aimo annoksen metallia. \nKolmatta kertaa järjestettävässä Metallivuoressa on tarjolla todella kova kattaus metallimusiikin huippuja ja rautainen nippu tulevaisuuden tähtiä. mm. Stam1na\, Turmion Kätilöt\, Kiuas\, Xysma\, Before The Dawn\, Wolfheart\, Tyrantti\, Awake Again ja monta muuta… \nLiput myynnissä nyt!\nhttps://www.ticketmaster.fi/artist/metallivuori-lippuja/1157333#listietoa \n\nwww.metallivuori.fi
URL:https://uittamo.fi/event/metallivuori-2023/
LOCATION:Uittamo Paviljonki\, Rykmentintie 29\, TURKU\, 20880\, Suomi
CATEGORIES:Juoma,Keikat,Musiikki,Ruoka
ATTACH;FMTTYPE=image/png:https://uittamo.fi/wp-content/uploads/2023/05/Metallivuori-Facebook-postaus-Vaakasuuntainen.png
ORGANIZER;CN="Metallivuori":MAILTO:vuohi@metallivuori.fi
END:VEVENT
BEGIN:VEVENT
DTSTART;TZID=UTC:20230617T170000
DTEND;TZID=UTC:20230617T233000
DTSTAMP:20260422T125834
CREATED:20230514T194601Z
LAST-MODIFIED:20230514T200826Z
UID:5553-1687021200-1687044600@uittamo.fi
SUMMARY:Archipelago vibes – goes hard 2023
DESCRIPTION:Archipelago Vibes – Goes Hard 2023 järjestetään kesäkuun 17. päivä Turussa Uittamon Paviljongilla. \nEnsimmäistä kertaa järjestettävässä Archipelago Vibes – Goes Hard 2023 tapahtumassa 7 DJ:tä tuovat hillittömät bileet ja poikkeuksellisen tunnelman Uittamolle. Mukaan tulee ulkomailta kovat vahvistukset ja tapahtuma on muutenkin kansainvälisesti kattava. Illan aikana kuullaan mm. Hardstyle\, rawstyle\, hardtechnoa. Artistit ja lisäinfot julkaistaan toukokuun aikana. \nLiput myynnissä nyt! \nhttps://www.ticketmaster.fi/event/archipelago-vibes-goes-hard-2023-lippuja/324865 \n17.6.2023 17:00 – 01:30\nIkäraja 18v.
URL:https://uittamo.fi/event/archipelago-vibes-goes-hard-2023/
LOCATION:Uittamo Paviljonki\, Rykmentintie 29\, TURKU\, 20880\, Suomi
CATEGORIES:Juoma,Keikat,Musiikki,Ruoka
ATTACH;FMTTYPE=image/png:https://uittamo.fi/wp-content/uploads/2023/05/fb-event-cover-no-info.png
END:VEVENT
BEGIN:VEVENT
DTSTART;TZID=UTC:20220513T190000
DTEND;TZID=UTC:20220514T000000
DTSTAMP:20260422T125834
CREATED:20220405T104445Z
LAST-MODIFIED:20220405T104445Z
UID:917-1652468400-1652486400@uittamo.fi
SUMMARY:Luuvitonen Uittamolla!
DESCRIPTION:LUUVITONEN – SUOMALAISEN ROCK-MUSIIKIN LÄHETTILÄS \nLUUVITONEN Esittää mm. KLAMYDIAN\, POPEDAN ja YÖn tuotantoa\, erityisesti radiosoittoa saanutta materiaalia\, unohtamatta kuitenkaan kaikkien tuntemia klassikoita. Mausteeksi mukaan on tuotu hittejä myös muutamalta muulta artistilta. Kaikenkaikkiaan monissa liemissä keitetyt\, pitkän linjan rokkarit esittävät railakasta\, iloista ja rehellistä Suomalaista ”vanhan liiton” rokkia \, jonka mukana on yleisönkin kiva hoilottaa. \nOta matkalippu suomalaisen rock-kulttuurin ytimeen\, aitojen ja syvien kansanrivien sisuksiin\, savuisiin kapakoihin ja aitoihin rockluoliin\, ja päästele ”höyryjä” yhdessä sielunkumppaneittesi kanssa… AIKAMATKA NUORUUDEN MUISTOIHIN ON NYT MAHDOLLISTA!
URL:https://uittamo.fi/event/luuvitonen-uittamolla/
LOCATION:Uittamo Paviljonki\, Rykmentintie 29\, TURKU\, 20880\, Suomi
CATEGORIES:Juoma,Keikat,Musiikki,Ruoka,Tanssit,Teatteri
ATTACH;FMTTYPE=image/jpeg:https://uittamo.fi/wp-content/uploads/2022/04/Luuvitonen.jpeg
END:VEVENT
BEGIN:VEVENT
DTSTART;TZID=UTC:20220508T120000
DTEND;TZID=UTC:20220508T170000
DTSTAMP:20260422T125834
CREATED:20220405T194726Z
LAST-MODIFIED:20220405T194726Z
UID:920-1652011200-1652029200@uittamo.fi
SUMMARY:Uittamon äitienpäivän saaristolaispöytä
DESCRIPTION:Ihmeellisten ihmisten saaristolaispöytä paviljongissa äitien päivänä \nKYLMÄT \nMuna– anjovistahnaa ja mummonkurkkua L\, G \nRapu-kananmunia\, silliä ja silakkaa L\, G \nVihreää salaattia\, halloumia ja vinaigrette L\, G \nUittamon lohipastramia ja pikkelöityjä vihanneksia L\, G \nRapukakkuja paviljongin tapaan ja sitruuna- yrttijogurttia L\, G \nMarinoituja lihapullia L\,G \nKirkasta perunasalaattia L\, G \nTalon voita ja leipälajitelma \nLÄMMIN \nPitkään haudutettua vasikkaa tummassa liemikastikkeessa L\,G \nPaistettua ahventa ja lime- ruohosipulikastiketta L \nPerunoita kahdella tapaa L\, G \nKasvispaistosta L\,G \nJÄLKIRUOKA \nKermakakkua \nMutakakkua L\,G \nPikkuleipiä/keksiä \n  \n39 €/ hlö \n(lapset alle 15-vuotta 2 €/ vuosi) \nVaraukset: mari@lonestar.fi tai 0409003841
URL:https://uittamo.fi/event/uittamon-aitienpaivan-saaristolaispoyta/
LOCATION:Uittamo Paviljonki\, Rykmentintie 29\, TURKU\, 20880\, Suomi
CATEGORIES:Juoma,Musiikki,Ruoka
ATTACH;FMTTYPE=image/png:https://uittamo.fi/wp-content/uploads/2022/04/Aitienpaiva-uittamo.png
ORGANIZER;CN="Uittamo Paviljonki":MAILTO:mari@lonestar.fi
END:VEVENT
BEGIN:VEVENT
DTSTART;TZID=UTC:20220501T120000
DTEND;TZID=UTC:20220501T160000
DTSTAMP:20260422T125834
CREATED:20220315T193322Z
LAST-MODIFIED:20220405T100740Z
UID:781-1651406400-1651420800@uittamo.fi
SUMMARY:Uittamon Vappu Brunssi
DESCRIPTION:Uittamo Paviljongin herkullinen ja perinteinen Vappubrunssi tarjoillaan 1.5.2022 klo. 12-17. Keittiömestarimme loihtii parhaimmat brunssi herkkunsa teille tarjottavaksi. Brunssi sisältää herkullisen pöydän lisäksi lasin kuohuvaa! Brunssin hinta 29 €/ hlö. Lapset alle 15-vuotiaat herkuttelevat ikänsä mukaan 2 €/ vuosi. \nBrunssi: \nTäytettyä munarullaa L\,G\, Suutarinlohta M\,G\, Croisantteja ja mansikkahilloa\, Hiillostettua lohta sekä paahdettua parsaa M\,G\, Oliivi- artisokkasalaattia M\,G\,Tomaattia\, Mozzarellaa\, basilikaa ja paahdettua pähkinää L\, Keväistä maalaissalaattia M\,G\, Marinoitua vasikkaa M\,G\, papu-sipulisalaattia M\,G\, Sellerisalaattia L\,G\, Paistettua pekonia M\,G\, Nakkeja L\,G\, Marinoituja lihapullia L\,G\, Paahdettuja perunoita M\,G\, Rapu-Kalahöystöä L\,G\, Uunihummusta VE\, Kasviscurrya M\,G\, Juustokakkua\, Vadelmamelbaa M\,G\, Talon itsepaistettuja munkkeja L \nTervetuloa! \nPöytävaraukset: mari@lonestar.fi tai 0409003841
URL:https://uittamo.fi/event/uittamon-vappu-brunssi/
LOCATION:Uittamo Paviljonki\, Rykmentintie 29\, TURKU\, 20880\, Suomi
CATEGORIES:Juoma,Ruoka
ATTACH;FMTTYPE=image/jpeg:https://uittamo.fi/wp-content/uploads/2021/05/aitienpaiva_uittamo_2018_netti-119.jpg
ORGANIZER;CN="Uittamo Paviljonki":MAILTO:mari@lonestar.fi
END:VEVENT
END:VCALENDAR