BEGIN:VCALENDAR
VERSION:2.0
PRODID:-//Uittamo - ECPv6.3.5//NONSGML v1.0//EN
CALSCALE:GREGORIAN
METHOD:PUBLISH
X-WR-CALNAME:Uittamo
X-ORIGINAL-URL:https://uittamo.fi
X-WR-CALDESC:Events for Uittamo
REFRESH-INTERVAL;VALUE=DURATION:PT1H
X-Robots-Tag:noindex
X-PUBLISHED-TTL:PT1H
BEGIN:VTIMEZONE
TZID:UTC
BEGIN:STANDARD
TZOFFSETFROM:+0000
TZOFFSETTO:+0000
TZNAME:UTC
DTSTART:20220101T000000
END:STANDARD
END:VTIMEZONE
BEGIN:VEVENT
DTSTART;TZID=UTC:20220508T120000
DTEND;TZID=UTC:20220508T170000
DTSTAMP:20260422T142000
CREATED:20220405T194726Z
LAST-MODIFIED:20220405T194726Z
UID:920-1652011200-1652029200@uittamo.fi
SUMMARY:Uittamon äitienpäivän saaristolaispöytä
DESCRIPTION:Ihmeellisten ihmisten saaristolaispöytä paviljongissa äitien päivänä \nKYLMÄT \nMuna– anjovistahnaa ja mummonkurkkua L\, G \nRapu-kananmunia\, silliä ja silakkaa L\, G \nVihreää salaattia\, halloumia ja vinaigrette L\, G \nUittamon lohipastramia ja pikkelöityjä vihanneksia L\, G \nRapukakkuja paviljongin tapaan ja sitruuna- yrttijogurttia L\, G \nMarinoituja lihapullia L\,G \nKirkasta perunasalaattia L\, G \nTalon voita ja leipälajitelma \nLÄMMIN \nPitkään haudutettua vasikkaa tummassa liemikastikkeessa L\,G \nPaistettua ahventa ja lime- ruohosipulikastiketta L \nPerunoita kahdella tapaa L\, G \nKasvispaistosta L\,G \nJÄLKIRUOKA \nKermakakkua \nMutakakkua L\,G \nPikkuleipiä/keksiä \n  \n39 €/ hlö \n(lapset alle 15-vuotta 2 €/ vuosi) \nVaraukset: mari@lonestar.fi tai 0409003841
URL:https://uittamo.fi/event/uittamon-aitienpaivan-saaristolaispoyta/
LOCATION:Uittamo Paviljonki\, Rykmentintie 29\, TURKU\, 20880\, Suomi
CATEGORIES:Juoma,Musiikki,Ruoka
ATTACH;FMTTYPE=image/png:https://uittamo.fi/wp-content/uploads/2022/04/Aitienpaiva-uittamo.png
ORGANIZER;CN="Uittamo Paviljonki":MAILTO:mari@lonestar.fi
END:VEVENT
BEGIN:VEVENT
DTSTART;TZID=UTC:20220501T120000
DTEND;TZID=UTC:20220501T160000
DTSTAMP:20260422T142000
CREATED:20220315T193322Z
LAST-MODIFIED:20220405T100740Z
UID:781-1651406400-1651420800@uittamo.fi
SUMMARY:Uittamon Vappu Brunssi
DESCRIPTION:Uittamo Paviljongin herkullinen ja perinteinen Vappubrunssi tarjoillaan 1.5.2022 klo. 12-17. Keittiömestarimme loihtii parhaimmat brunssi herkkunsa teille tarjottavaksi. Brunssi sisältää herkullisen pöydän lisäksi lasin kuohuvaa! Brunssin hinta 29 €/ hlö. Lapset alle 15-vuotiaat herkuttelevat ikänsä mukaan 2 €/ vuosi. \nBrunssi: \nTäytettyä munarullaa L\,G\, Suutarinlohta M\,G\, Croisantteja ja mansikkahilloa\, Hiillostettua lohta sekä paahdettua parsaa M\,G\, Oliivi- artisokkasalaattia M\,G\,Tomaattia\, Mozzarellaa\, basilikaa ja paahdettua pähkinää L\, Keväistä maalaissalaattia M\,G\, Marinoitua vasikkaa M\,G\, papu-sipulisalaattia M\,G\, Sellerisalaattia L\,G\, Paistettua pekonia M\,G\, Nakkeja L\,G\, Marinoituja lihapullia L\,G\, Paahdettuja perunoita M\,G\, Rapu-Kalahöystöä L\,G\, Uunihummusta VE\, Kasviscurrya M\,G\, Juustokakkua\, Vadelmamelbaa M\,G\, Talon itsepaistettuja munkkeja L \nTervetuloa! \nPöytävaraukset: mari@lonestar.fi tai 0409003841
URL:https://uittamo.fi/event/uittamon-vappu-brunssi/
LOCATION:Uittamo Paviljonki\, Rykmentintie 29\, TURKU\, 20880\, Suomi
CATEGORIES:Juoma,Ruoka
ATTACH;FMTTYPE=image/jpeg:https://uittamo.fi/wp-content/uploads/2021/05/aitienpaiva_uittamo_2018_netti-119.jpg
ORGANIZER;CN="Uittamo Paviljonki":MAILTO:mari@lonestar.fi
END:VEVENT
END:VCALENDAR