BEGIN:VCALENDAR
VERSION:2.0
PRODID:-//Uittamo - ECPv6.3.5//NONSGML v1.0//EN
CALSCALE:GREGORIAN
METHOD:PUBLISH
X-WR-CALNAME:Uittamo
X-ORIGINAL-URL:https://uittamo.fi
X-WR-CALDESC:Events for Uittamo
REFRESH-INTERVAL;VALUE=DURATION:PT1H
X-Robots-Tag:noindex
X-PUBLISHED-TTL:PT1H
BEGIN:VTIMEZONE
TZID:UTC
BEGIN:STANDARD
TZOFFSETFROM:+0000
TZOFFSETTO:+0000
TZNAME:UTC
DTSTART:20210101T000000
END:STANDARD
END:VTIMEZONE
BEGIN:VEVENT
DTSTART;TZID=UTC:20210714T190000
DTEND;TZID=UTC:20210714T210000
DTSTAMP:20260424T191359
CREATED:20210630T160606Z
LAST-MODIFIED:20210630T163328Z
UID:423-1626289200-1626296400@uittamo.fi
SUMMARY:Upea ilta Uittamolla: MARI PALO\, HANNU LEHTONEN & SEPPO HOVI
DESCRIPTION:Upea ilta Uittamolla -konserttisarja tuo kesäkeskiviikkoisin legendaariselle Uittamolavalle vaihtelevan kattauksen tähtiartistien konsertteja. \n14.7.2021 klo 19 Uittamon lavalla matkataan hetkeksi menneiden vuosikymmenien nostalgiaan. Sopraano Mari Palon\, baritoni Hannu Lehtosen ja pianisti Seppo Hovin Lauantain toivotut -konsertti käy läpi suomalaisten rakastamia säveliä eri vuosikymmeniltä radion pitkäikäisimmän ohjelman tapaan klassisista sävelistä kohti tämän päivän kevyen musiikin kappaleita edeten. \nLiput: 29 € + toimituskulut: kalkki.tapahtumiin.fi ja lippu.fi sekä Uittamo Paviljonki ravintolasta \nIllan täydentää ravintolassa klo 17-19 tarjolla oleva runsas saaristolaispöytä hintaan 20 € / hlö. Teethän pöytävarauksen etukäteen mari@lonestar.fi. \nKonsertin kesto 2 h\, sisältää puolen tunnin väliajan.
URL:https://uittamo.fi/event/upea-ilta-uittamolla/
LOCATION:Uittamo Paviljonki\, Rykmentintie 29\, TURKU\, 20880\, Suomi
CATEGORIES:Keikat,Musiikki
ATTACH;FMTTYPE=image/jpeg:https://uittamo.fi/wp-content/uploads/2021/06/MARI-PALO-Uittamo-juliste.jpg
ORGANIZER;CN="Tuotantoyhti%C3%B6 Kalkki Oy":MAILTO:petri.haapasalo@kalkkikauppa.fi
END:VEVENT
END:VCALENDAR