BEGIN:VCALENDAR
VERSION:2.0
PRODID:-//Uittamo - ECPv6.3.5//NONSGML v1.0//EN
CALSCALE:GREGORIAN
METHOD:PUBLISH
X-WR-CALNAME:Uittamo
X-ORIGINAL-URL:https://uittamo.fi
X-WR-CALDESC:Events for Uittamo
REFRESH-INTERVAL;VALUE=DURATION:PT1H
X-Robots-Tag:noindex
X-PUBLISHED-TTL:PT1H
BEGIN:VTIMEZONE
TZID:UTC
BEGIN:STANDARD
TZOFFSETFROM:+0000
TZOFFSETTO:+0000
TZNAME:UTC
DTSTART:20210101T000000
END:STANDARD
END:VTIMEZONE
BEGIN:VEVENT
DTSTART;TZID=UTC:20210716T170000
DTEND;TZID=UTC:20210717T010000
DTSTAMP:20260424T191400
CREATED:20210701T204002Z
LAST-MODIFIED:20210701T204002Z
UID:449-1626454800-1626483600@uittamo.fi
SUMMARY:KILPI JA SUAMENLEJJONA
DESCRIPTION:KILPI JA SUAMENLEJJONA YHTEISKEIKALLA UITTAMON PAVILJONGISSA!\nTurkulaiset Kilpi ja Suamenlejjona iskeytyvät yhteisvoimin Uittamon Paviljonkiin 16.7.2021!\nKilpi on yksi suomalaisen heavy metallin järeimmistä aseista eikä juuri pidempiä esittelyjä kaipaa. Yhtyeen ensimmäinen pitkäsoitto “Sähkönsinistä sinfoniaa” julkaistiin vuonna 2003 ja kyseiseltä levyltä lohkaistu single “Nerokasta Ikävää” nousi myös listoilla sijalle 16. sinkaisten bändin suosion kertaheittämällä sinne minne kuuluukin. Vuonna 2004 julkaistu single “Sielut iskee tulta” vahvisti edelleen yhtyeen asemaa kotimaisen metallin kentällä ja samassa yhteydessä Kilpi teki myös ensimmäisen maanlaajuisen kiertueensa. Nyt kuusi studioalbumia myöhemmin – joista viimeisin “Juggernautti” julkaistiin vuonna 2015 – Kilpi nauttii edelleen vahvan fanikantansa suosiota.\nSuamenlejjona – tämä ronski ja rietas genrerajojen yli souteleva metalliyhtye – jakaa mielipiteitä\, valloittaa sekä hämmentää kuulijoitaan roisilla\, mutta vahvasti huumoriin nojaavilla lyriikoillaan. Bändi on kerännyt jo vankan kuulijakunnan ympäri Suomea ja jatkaa edelleen voittokulkuaan täyttämällä tupia pääkaupunkiseudulta aina pohjoisen (p)erämaille saakka. Suamenlejjonan lyriikat rakentuvat monelle suomalaiselle samaistuttavien teemojen ympärille. Jääkiekko\, keskiolut\, naiset\, miehiset miehet\, ronski rakkaus\, luottotietojen menettäminen… Jääkiekkopaita päällä keppana kourassa rinta rottingilla ja vahvalla itseironialla eteenpäin. Tästä kaikesta on Suamenlejjona tehty.\nYhtye on julkaissut yhden pitkäsoiton “Suamenlejjona” ja tämän jälkeen useamman singlejulkaisun\, joista tuorein “Katkon portit” julkaistiin heinäkuussa 2020. Toinen pitkäsoitto on nyt työn alla ja se tullaan julkaisemaan vielä tämän vuoden aikana.\nEnnakkoliput tapahtumaan myy Liveto\nTurku Rockpark presents:\nKILPI & Suamenlejjona\nUittamon Paviljonki\n16.7.2021\nLiput ennakkoon 18€\nOvelta 20€\nVoit ostaa liput myös herkullisella noutopöydällä 38€/kpl ennakkoon.\nTarjolla Paviljongin herkullinen rockmenu:\nKaramellipossua (L\,G\,M)\nKasvispaistos (L\,G\,M)\nRiisiä (L\,G\,M)\nPaviljongin vihersalaattia\n\n\nTapahtuma on K-18
URL:https://uittamo.fi/event/kilpi-ja-suamenlejjona/
CATEGORIES:Keikat,Musiikki,Tanssit
ATTACH;FMTTYPE=image/png:https://uittamo.fi/wp-content/uploads/2021/07/Kilpi16.7.png
END:VEVENT
END:VCALENDAR