BEGIN:VCALENDAR
VERSION:2.0
PRODID:-//Uittamo - ECPv6.3.5//NONSGML v1.0//EN
CALSCALE:GREGORIAN
METHOD:PUBLISH
X-WR-CALNAME:Uittamo
X-ORIGINAL-URL:https://uittamo.fi
X-WR-CALDESC:Events for Uittamo
REFRESH-INTERVAL;VALUE=DURATION:PT1H
X-Robots-Tag:noindex
X-PUBLISHED-TTL:PT1H
BEGIN:VTIMEZONE
TZID:UTC
BEGIN:STANDARD
TZOFFSETFROM:+0000
TZOFFSETTO:+0000
TZNAME:UTC
DTSTART:20210101T000000
END:STANDARD
END:VTIMEZONE
BEGIN:VEVENT
DTSTART;TZID=UTC:20210806T193000
DTEND;TZID=UTC:20210806T220000
DTSTAMP:20260424T180301
CREATED:20210706T205114Z
LAST-MODIFIED:20210803T165039Z
UID:638-1628278200-1628287200@uittamo.fi
SUMMARY:Freesi
DESCRIPTION:Freesi — rehellisiä rakkauslauluja\, aitoa elämäniloa\, arkea aikuisen silmin\, hetkittäistä melankoliaa\, sopivasti riipivää tunnetta. Kaikkea\, mitä haluaa jakaa myös parhaan ystävänsä kanssa. Tiiviisti yhteen hitsautuneen nelikon musiikissa pop ja iskelmä heittävät ylävitoset rytmikkäästi rullaavien kappaleiden ja herkkien balladien voimin.
URL:https://uittamo.fi/event/freesi/
LOCATION:Uittamo Paviljonki\, Rykmentintie 29\, TURKU\, 20880\, Suomi
CATEGORIES:Keikat,Musiikki
ATTACH;FMTTYPE=image/png:https://uittamo.fi/wp-content/uploads/2021/07/Nayttokuva-2021-7-6-kello-23.25.06.png
ORGANIZER;CN="Uittamo Paviljonki":MAILTO:mari@lonestar.fi
END:VEVENT
END:VCALENDAR