BEGIN:VCALENDAR
VERSION:2.0
PRODID:-//Uittamo - ECPv6.3.5//NONSGML v1.0//EN
CALSCALE:GREGORIAN
METHOD:PUBLISH
X-WR-CALNAME:Uittamo
X-ORIGINAL-URL:https://uittamo.fi
X-WR-CALDESC:Events for Uittamo
REFRESH-INTERVAL;VALUE=DURATION:PT1H
X-Robots-Tag:noindex
X-PUBLISHED-TTL:PT1H
BEGIN:VTIMEZONE
TZID:UTC
BEGIN:STANDARD
TZOFFSETFROM:+0000
TZOFFSETTO:+0000
TZNAME:UTC
DTSTART:20210101T000000
END:STANDARD
END:VTIMEZONE
BEGIN:VEVENT
DTSTART;TZID=UTC:20210811T190000
DTEND;TZID=UTC:20210811T210000
DTSTAMP:20260424T175429
CREATED:20210630T165049Z
LAST-MODIFIED:20210707T115337Z
UID:441-1628708400-1628715600@uittamo.fi
SUMMARY:Upea ilta Uittamolla: TERO VAARA
DESCRIPTION:Upea ilta Uittamolla -konserttisarja tuo kesäkeskiviikkoisin legendaariselle Uittamon lavalle vaihtelevan kattauksen eri tähtiartistien konsertteja. \n11.8.2021 klo 19 Paviljongin lavalla kuullaan legendaarisen Mamba-yhtyeen keulahahmon\, laulaja-lauluntekijänä palkitun Tero Vaaran soolokeikka. Monissa artistiyhtyeissä vaikuttaneet ansioituneet basisti Pertti Jalonen ja pianisti Petri Haapasalo vievät kuulijat nostalgisille suomipopiskelmän taajuuksille Vaaran kynästä lähteneiden lukemattomien hittikappaleiden myötä. \nLiput: 29 € + toimituskulut: kalkki.tapahtumiin.fi ja lippu.fi sekä Uittamo Paviljonki ravintolasta \nIllan täydentää ravintolassa klo 17-19 tarjolla oleva runsas saaristolaispöytä. Teethän pöytävarauksen etukäteen mari@lonestar.fi. \nKonsertin kesto 2 h\, sisältää puolen tunnin väliajan.
URL:https://uittamo.fi/event/upea-ilta-uittamolla-tero-vaara/
LOCATION:Uittamo Paviljonki\, Rykmentintie 29\, TURKU\, 20880\, Suomi
CATEGORIES:Keikat,Musiikki
ATTACH;FMTTYPE=image/jpeg:https://uittamo.fi/wp-content/uploads/2021/06/TERO-VAARA-Uittamo-juliste.jpg
ORGANIZER;CN="Tuotantoyhti%C3%B6 Kalkki Oy":MAILTO:petri.haapasalo@kalkkikauppa.fi
END:VEVENT
END:VCALENDAR