BEGIN:VCALENDAR
VERSION:2.0
PRODID:-//Uittamo - ECPv6.3.5//NONSGML v1.0//EN
CALSCALE:GREGORIAN
METHOD:PUBLISH
X-ORIGINAL-URL:https://uittamo.fi
X-WR-CALDESC:Events for Uittamo
REFRESH-INTERVAL;VALUE=DURATION:PT1H
X-Robots-Tag:noindex
X-PUBLISHED-TTL:PT1H
BEGIN:VTIMEZONE
TZID:UTC
BEGIN:STANDARD
TZOFFSETFROM:+0000
TZOFFSETTO:+0000
TZNAME:UTC
DTSTART:20210101T000000
END:STANDARD
END:VTIMEZONE
BEGIN:VEVENT
DTSTART;TZID=UTC:20210818T190000
DTEND;TZID=UTC:20210818T210000
DTSTAMP:20260424T175843
CREATED:20210630T165954Z
LAST-MODIFIED:20210630T170025Z
UID:444-1629313200-1629320400@uittamo.fi
SUMMARY:Upea ilta Uittamolla: IIRO RANTALA & JUKKA PERKO
DESCRIPTION:Upea ilta Uittamolla -konserttisarja tuo kesäkeskiviikkoisin legendaariselle Uittamon lavalle vaihtelevan kattauksen tähtiartistien konsertteja. \nKeskiviikkona 18.8.2021 klo 19 Paviljongin lavalle oman valloittavan musiikkipersoonansa tuo pianisti Iiro Rantala yhdessä ansiotuneen saksofonisti Jukka Perkon kanssa. Suomijazzin tämän hetken arvostetuimpiin taitajiin kuuluva kaksikko loihtii kappaleesta kuin kappaleesta tuoreita omannäköisiä tulkintoja\, joissa musiikilla on tilaa hengittää. Konsertissa kuullaan myös omaa tuotantoa ja etenkin Iiron ollessa kyseessä ilta jää tuskin vaille huumoria ja rentoa puhetta aiheesta ja aiheen vierestä. \nLiput: 29 € + toimituskulut: kalkki.tapahtumiin.fi ja lippu.fi sekä Uittamo Paviljonki ravintolasta \nIllan täydentää ravintolassa klo 17-19 tarjolla oleva runsas saaristolaispöytä. Teethän pöytävarauksen etukäteen mari@lonestar.fi. \nKonsertin kesto 2 h\, sisältää puolen tunnin väliajan.
URL:https://uittamo.fi/event/upea-ilta-uittamolla-iiro-rantala-jukka-perko/
LOCATION:Uittamo Paviljonki\, Rykmentintie 29\, TURKU\, 20880\, Suomi
CATEGORIES:Keikat,Musiikki
ATTACH;FMTTYPE=image/jpeg:https://uittamo.fi/wp-content/uploads/2021/06/Uittamo-tapahtumakuva-IIRO-RANTALA.jpg
ORGANIZER;CN="Tuotantoyhti%C3%B6 Kalkki Oy":MAILTO:petri.haapasalo@kalkkikauppa.fi
END:VEVENT
END:VCALENDAR