BEGIN:VCALENDAR
VERSION:2.0
PRODID:-//Uittamo - ECPv6.3.5//NONSGML v1.0//EN
CALSCALE:GREGORIAN
METHOD:PUBLISH
X-ORIGINAL-URL:https://uittamo.fi
X-WR-CALDESC:Events for Uittamo
REFRESH-INTERVAL;VALUE=DURATION:PT1H
X-Robots-Tag:noindex
X-PUBLISHED-TTL:PT1H
BEGIN:VTIMEZONE
TZID:UTC
BEGIN:STANDARD
TZOFFSETFROM:+0000
TZOFFSETTO:+0000
TZNAME:UTC
DTSTART:20210101T000000
END:STANDARD
END:VTIMEZONE
BEGIN:VEVENT
DTSTART;TZID=UTC:20210819T170000
DTEND;TZID=UTC:20210920T230000
DTSTAMP:20260424T164427
CREATED:20210710T112333Z
LAST-MODIFIED:20210809T140414Z
UID:664-1629392400-1632178800@uittamo.fi
SUMMARY:Uittamon Sikajuhlat Part 1 Arttu Wiskari
DESCRIPTION:Uittamo Paviljongin kesään kuuluu perinteisesti sikajuhlat\, niin tänäkin vuonna. Tapahtuman tähtiesiintyjän lisäksi musiikillisesta viihdykkeestä vastaa huippu DJ. Tarjolla kokonaisena grillattua porsasta\, herkkuja talon keittiöstä sekä mahtava tunnelma. \nKonserttilippu 25€. \nLiput tästä linkistä: https://events.liveto.io/events/sikajuhlat-part-i-arttu-wiskari \nShow & Dinner lippu 49€. Lippu sisältää paikan ravintolasta sekä maukkaan illallisen.\nMenu: \nKokonaisena paistettua palvattua ja paistettua porsasta \nHärän poskea keittiömestarin kastikkeessa \nMaalaisperunoita \nSadon paahdettuja kasviksia \nHapankaali salaattia
URL:https://uittamo.fi/event/uittamon-sikajuhlat-part-1-arttu-wiskari/
LOCATION:Uittamo Paviljonki\, Rykmentintie 29\, TURKU\, 20880\, Suomi
CATEGORIES:Keikat,Musiikki,Tanssit
ATTACH;FMTTYPE=image/png:https://uittamo.fi/wp-content/uploads/2021/07/Arttuwiskari.png
ORGANIZER;CN="Uittamo Paviljonki":MAILTO:mari@lonestar.fi
END:VEVENT
END:VCALENDAR