BEGIN:VCALENDAR
VERSION:2.0
PRODID:-//Uittamo - ECPv6.3.5//NONSGML v1.0//EN
CALSCALE:GREGORIAN
METHOD:PUBLISH
X-ORIGINAL-URL:https://uittamo.fi
X-WR-CALDESC:Events for Uittamo
REFRESH-INTERVAL;VALUE=DURATION:PT1H
X-Robots-Tag:noindex
X-PUBLISHED-TTL:PT1H
BEGIN:VTIMEZONE
TZID:UTC
BEGIN:STANDARD
TZOFFSETFROM:+0000
TZOFFSETTO:+0000
TZNAME:UTC
DTSTART:20240101T000000
END:STANDARD
END:VTIMEZONE
BEGIN:VEVENT
DTSTART;VALUE=DATE:20240525
DTEND;VALUE=DATE:20240526
DTSTAMP:20260422T183546
CREATED:20240402T083441Z
LAST-MODIFIED:20240402T083710Z
UID:6789-1716595200-1716681599@uittamo.fi
SUMMARY:Coverfest
DESCRIPTION:Kesäkauden 2024 avajaiset Uittamo Paviljongissa LA 25.5.  \nKolme kovatasoista coverbändiä ja Freesi Duo tuo suomalaiset ikivihreät ja poikkeuksellisen nostalgian Uittamolle. Nämä bändit ovat saaneet tunnustusta tavastaan tulkita ohjelmistoaan ja esittämiään kappaleita.  \nNyt saatte nauttia samoilla festareilla suomalaisesta rock-\, pop- ja iskelmämusiikista aikuiseen makuun!  \nCOVERFEST -päivässä kuullaan hittejä seuraavien bändien tuotannoista: Leevi and The Leavings\, Agents\, Topi Sorsakoski\, Popeda\, Yö ja Klamydia!  \nLisää infoa tapahtumasta täältä.  \nLIPUT TÄÄLTÄ 
URL:https://uittamo.fi/event/coverfest/
LOCATION:Uittamo Paviljonki\, Rykmentintie 29\, TURKU\, 20880\, Suomi
CATEGORIES:Keikat
ATTACH;FMTTYPE=image/png:https://uittamo.fi/wp-content/uploads/2024/04/Screenshot-2024-04-02-at-11.32.41.png
END:VEVENT
END:VCALENDAR