BEGIN:VCALENDAR
VERSION:2.0
PRODID:-//Uittamo - ECPv6.3.5//NONSGML v1.0//EN
CALSCALE:GREGORIAN
METHOD:PUBLISH
X-ORIGINAL-URL:https://uittamo.fi
X-WR-CALDESC:Events for Uittamo
REFRESH-INTERVAL;VALUE=DURATION:PT1H
X-Robots-Tag:noindex
X-PUBLISHED-TTL:PT1H
BEGIN:VTIMEZONE
TZID:UTC
BEGIN:STANDARD
TZOFFSETFROM:+0000
TZOFFSETTO:+0000
TZNAME:UTC
DTSTART:20250101T000000
END:STANDARD
END:VTIMEZONE
BEGIN:VEVENT
DTSTART;TZID=UTC:20250613T190000
DTEND;TZID=UTC:20250613T213000
DTSTAMP:20260419T234417
CREATED:20250513T071038Z
LAST-MODIFIED:20250513T071038Z
UID:7554-1749841200-1749850200@uittamo.fi
SUMMARY:UITTAMON STAND UP – Turun hauskimmat naurut!
DESCRIPTION:Tervetuloa nauramaan vatsalihakset kipeiksi\, kun Niko Metsänkylä kavereineen saapuvat Uittamon Paviljongille\, Turkuun.\nTämä ilta on täynnä huippuhauskaa stand up -komiikkaa ja rentoa tunnelmaa. \n📅 Päivämäärä: 13.6.\n📍 Paikka: Uittamon Paviljonki\, Turku\n⏰ Showtime: 19.00\n🎟 Liput ennakkoon TÄSTÄ: 15\,90 € / Ovelta: 20 € \nLuvassa hulvaton ilta – tuu mukaan! 😄🔥
URL:https://uittamo.fi/event/uittamon-stand-up-turun-hauskimmat-naurut/
LOCATION:Uittamo Paviljonki\, Rykmentintie 29\, TURKU\, 20880\, Suomi
CATEGORIES:Keikat
ATTACH;FMTTYPE=image/jpeg:https://uittamo.fi/wp-content/uploads/2025/05/WhatsApp-Image-2025-05-12-at-22.38.54.jpeg
END:VEVENT
END:VCALENDAR