BEGIN:VCALENDAR
VERSION:2.0
PRODID:-//Uittamo - ECPv6.3.5//NONSGML v1.0//EN
CALSCALE:GREGORIAN
METHOD:PUBLISH
X-ORIGINAL-URL:https://uittamo.fi
X-WR-CALDESC:Events for Uittamo
REFRESH-INTERVAL;VALUE=DURATION:PT1H
X-Robots-Tag:noindex
X-PUBLISHED-TTL:PT1H
BEGIN:VTIMEZONE
TZID:UTC
BEGIN:STANDARD
TZOFFSETFROM:+0000
TZOFFSETTO:+0000
TZNAME:UTC
DTSTART:20260101T000000
END:STANDARD
END:VTIMEZONE
BEGIN:VEVENT
DTSTART;TZID=UTC:20260619T160000
DTEND;TZID=UTC:20260619T200000
DTSTAMP:20260422T154057
CREATED:20260313T091611Z
LAST-MODIFIED:20260313T091611Z
UID:7973-1781884800-1781899200@uittamo.fi
SUMMARY:Uittamon juhannusaaton saaristolaispöytä
DESCRIPTION:Juhannus Turussa\n\nTervetuloa nauttimaan juhannusaaton saaristolaispöydästä 19.6.2026 klo 16-20 Uittamo Paviljongille.  \nTarjolla on herkullinen noutopöytä\, joka on saanut inspiraationsa saariston mauista. Luvassa on rentoa juhannusfiilistä\, hyvää ruokaa ja kauniita maisemia\, juuri kuten juhannukseen kuuluu.\nTule nauttimaan juhannustunnelmasta upeisiin merimaisemiin Uittamo Paviljongille! \nLisätietoa tapahtumasta tulossa myöhemmin keväällä.
URL:https://uittamo.fi/event/uittamon-juhannusaaton-saaristolaispoyta/
LOCATION:Uittamo Paviljonki\, Rykmentintie 29\, TURKU\, 20880\, Suomi
CATEGORIES:Ruoka
ATTACH;FMTTYPE=image/jpeg:https://uittamo.fi/wp-content/uploads/2024/08/WhatsApp-Image-2024-08-24-at-12.37.48.jpeg
END:VEVENT
END:VCALENDAR