BEGIN:VCALENDAR
VERSION:2.0
PRODID:-//Uittamo - ECPv6.3.5//NONSGML v1.0//EN
CALSCALE:GREGORIAN
METHOD:PUBLISH
X-ORIGINAL-URL:https://uittamo.fi
X-WR-CALDESC:Events for Uittamo
REFRESH-INTERVAL;VALUE=DURATION:PT1H
X-Robots-Tag:noindex
X-PUBLISHED-TTL:PT1H
BEGIN:VTIMEZONE
TZID:UTC
BEGIN:STANDARD
TZOFFSETFROM:+0000
TZOFFSETTO:+0000
TZNAME:UTC
DTSTART:20220101T000000
END:STANDARD
END:VTIMEZONE
BEGIN:VEVENT
DTSTART;TZID=UTC:20220430T180000
DTEND;TZID=UTC:20220501T010000
DTSTAMP:20260424T113430
CREATED:20220315T185559Z
LAST-MODIFIED:20220315T185559Z
UID:775-1651341600-1651366800@uittamo.fi
SUMMARY:Uittamon avajaiset/ Kakku Pojat
DESCRIPTION:Tätä on odotettu! \nKesä\, Uittamo Paviljonki ja kaupungin upein terassi! \nUittamo Paviljonki avaa ovensa tietenkin Kakkujen tahtiin. Tarjolla kuumia ja kylmiä juomia sekä tietenkin Kakku Pojat.
URL:https://uittamo.fi/event/uittamon-avajaiset-kakku-pojat/
LOCATION:Uittamo Paviljonki\, Rykmentintie 29\, TURKU\, 20880\, Suomi
CATEGORIES:Keikat,Musiikki,Tanssit,Teatteri
ATTACH;FMTTYPE=image/jpeg:https://uittamo.fi/wp-content/uploads/2022/03/kesa-scaled-e1712045457101.jpg
ORGANIZER;CN="Uittamo Paviljonki":MAILTO:mari@lonestar.fi
END:VEVENT
END:VCALENDAR