BEGIN:VCALENDAR
VERSION:2.0
PRODID:-//Uittamo - ECPv6.3.5//NONSGML v1.0//EN
CALSCALE:GREGORIAN
METHOD:PUBLISH
X-ORIGINAL-URL:https://uittamo.fi
X-WR-CALDESC:Events for Uittamo
REFRESH-INTERVAL;VALUE=DURATION:PT1H
X-Robots-Tag:noindex
X-PUBLISHED-TTL:PT1H
BEGIN:VTIMEZONE
TZID:UTC
BEGIN:STANDARD
TZOFFSETFROM:+0000
TZOFFSETTO:+0000
TZNAME:UTC
DTSTART:20240101T000000
END:STANDARD
END:VTIMEZONE
BEGIN:VEVENT
DTSTART;TZID=UTC:20240801T120000
DTEND;TZID=UTC:20240801T210000
DTSTAMP:20260420T154634
CREATED:20240417T141259Z
LAST-MODIFIED:20240417T141259Z
UID:6851-1722513600-1722546000@uittamo.fi
SUMMARY:Uittamon kesäteatteri - Dingo-musikaali AUTIOTALO
DESCRIPTION:Autiotalo-musikaali kertoo Dingo-yhtyeen ja sen keulakuvan Neumannin uskomattoman tarinan. Musikaali kertoo 80-luvun rock-ilmiöstä Suomessa\, jolloin Dingo aiheutti maanlaajuisen rockhysterian. Dingo rikkoi vuosien 1984-1986 aikana kaikki siihen asti tehdyt levy-ja konserttimyyntien ennätykset Suomessa.    \nTarina alkaa\, kun Pertti Nieminen niminen nuorukainen lähtee merille. Kun hän palaa Suomeen ja perustaa kavereidensa kanssa Dingon\, loppu onkin suomalaisen rock-musiikin historiaa. Yhtyeen musiikista pitivät kaiken ikäiset\, niin teinit kuin eläkeläiset. Fanit seurasivat yhtyettä joka paikkaan; odottivat porttikongeissa\, pyrkivät hotellihuoneisiin ja keikkabusseihin. Yhtyeen jäsenillä ei ollut yksityiselämää. Musikaali kertoo myös yhtyettä fanittavan perheen tarinaa. Mitä perheen miehet ajattelevat\, kun naiset hullaantuvat yhtyeeseen täysin? Perheen fanihysteriasta ei kommelluksia ja hauskuutta puutu. Lopulta Dingon menestys paisuu liian suureksi\, sen kulut kasvavat ja suosion lieveilmiöt alkavat häiritä. Dingo päättää lopettaa ollessaan suosionsa aallonharjalla. Musikaalissa kuullaan yhtyeen suosituimmat kappaleet kuten Autiotalo\, Sinä ja Minä\, Nahkatakkinen tyttö\, Valkoiset tiikerit ja Rio Ohoi. Kuullaanpa esityksessä myös joku Porirockin muukin helmi.    \nPääosassa Neumannina loistaa turkulainen laulaja ja useista musikaaleista tuttu Erik Kraemer. Muissa rooleissa nähdään mm. Evita Aaltonen/Elisa Lairikko\, Mirjam Paaso/ Sonja Lairikko\, Tatu Mönttinen/ Petri Lairikko\, Jussi Ojanen\, Timo Järvensivu\, Miika Raeniemi/ Simo Stenman\, Juha Kinnunen/ Kasperi Kinnunen    \nTule nauttimaan koskettavasta\, hauskasta ja vauhdikkaasta esityksestä!    \nEsteettömän kulun varmistamiseksi inva- ja avustajaliput vain Suomen Musiikkiteatterin oman lipunmyynnin kautta: p. 044 3466 713 (ma-pe klo 09-17) / myynti@musiikkiteatteri.fi www.musiikkiteatteri.fi    \nKlo 14 LIPUT TÄÄLTÄ! \nKlo 18 LIPUT TÄÄLTÄ!
URL:https://uittamo.fi/event/uittamon-kesateatteri-dingo-musikaali-autiotalo-12/
LOCATION:Uittamo Paviljonki\, Rykmentintie 29\, TURKU\, 20880\, Suomi
CATEGORIES:Teatteri
ATTACH;FMTTYPE=image/png:https://uittamo.fi/wp-content/uploads/2024/04/thumbnail_Dingo_Nettisivubanneri-768x329-1.png
END:VEVENT
BEGIN:VEVENT
DTSTART;TZID=UTC:20240802T150000
DTEND;TZID=UTC:20240802T210000
DTSTAMP:20260420T154634
CREATED:20240417T141508Z
LAST-MODIFIED:20240417T141508Z
UID:6853-1722610800-1722632400@uittamo.fi
SUMMARY:Uittamon kesäteatteri - Dingo-musikaali AUTIOTALO
DESCRIPTION:Autiotalo-musikaali kertoo Dingo-yhtyeen ja sen keulakuvan Neumannin uskomattoman tarinan. Musikaali kertoo 80-luvun rock-ilmiöstä Suomessa\, jolloin Dingo aiheutti maanlaajuisen rockhysterian. Dingo rikkoi vuosien 1984-1986 aikana kaikki siihen asti tehdyt levy-ja konserttimyyntien ennätykset Suomessa.    \nTarina alkaa\, kun Pertti Nieminen niminen nuorukainen lähtee merille. Kun hän palaa Suomeen ja perustaa kavereidensa kanssa Dingon\, loppu onkin suomalaisen rock-musiikin historiaa. Yhtyeen musiikista pitivät kaiken ikäiset\, niin teinit kuin eläkeläiset. Fanit seurasivat yhtyettä joka paikkaan; odottivat porttikongeissa\, pyrkivät hotellihuoneisiin ja keikkabusseihin. Yhtyeen jäsenillä ei ollut yksityiselämää. Musikaali kertoo myös yhtyettä fanittavan perheen tarinaa. Mitä perheen miehet ajattelevat\, kun naiset hullaantuvat yhtyeeseen täysin? Perheen fanihysteriasta ei kommelluksia ja hauskuutta puutu. Lopulta Dingon menestys paisuu liian suureksi\, sen kulut kasvavat ja suosion lieveilmiöt alkavat häiritä. Dingo päättää lopettaa ollessaan suosionsa aallonharjalla. Musikaalissa kuullaan yhtyeen suosituimmat kappaleet kuten Autiotalo\, Sinä ja Minä\, Nahkatakkinen tyttö\, Valkoiset tiikerit ja Rio Ohoi. Kuullaanpa esityksessä myös joku Porirockin muukin helmi.    \nPääosassa Neumannina loistaa turkulainen laulaja ja useista musikaaleista tuttu Erik Kraemer. Muissa rooleissa nähdään mm. Evita Aaltonen/Elisa Lairikko\, Mirjam Paaso/ Sonja Lairikko\, Tatu Mönttinen/ Petri Lairikko\, Jussi Ojanen\, Timo Järvensivu\, Miika Raeniemi/ Simo Stenman\, Juha Kinnunen/ Kasperi Kinnunen    \nTule nauttimaan koskettavasta\, hauskasta ja vauhdikkaasta esityksestä!    \nEsteettömän kulun varmistamiseksi inva- ja avustajaliput vain Suomen Musiikkiteatterin oman lipunmyynnin kautta: p. 044 3466 713 (ma-pe klo 09-17) / myynti@musiikkiteatteri.fi www.musiikkiteatteri.fi    \n LIPUT TÄÄLTÄ!
URL:https://uittamo.fi/event/uittamon-kesateatteri-dingo-musikaali-autiotalo-13/
LOCATION:Uittamo Paviljonki\, Rykmentintie 29\, TURKU\, 20880\, Suomi
CATEGORIES:Teatteri
ATTACH;FMTTYPE=image/png:https://uittamo.fi/wp-content/uploads/2024/04/thumbnail_Dingo_Nettisivubanneri-768x329-1.png
END:VEVENT
BEGIN:VEVENT
DTSTART;TZID=UTC:20240805T150000
DTEND;TZID=UTC:20240805T210000
DTSTAMP:20260420T154634
CREATED:20240420T080338Z
LAST-MODIFIED:20240420T080338Z
UID:6869-1722870000-1722891600@uittamo.fi
SUMMARY:Uittamon kesäteatteri - Badding -musikaali Paratiisi
DESCRIPTION:Rauli Badding Somerjoki on suomalaisen rockin kiistaton kuningas\, todellinen legenda. Hänet tunnetaan miehenä\, joka pohjusti suomirockin. Hänen tunnetuimpia kappaleitaan ovat Fiilaten ja höyläten\, Ja rokki soi\, Paratiisi\, Ikkunaprinsessa\, Tähdet tähdet\, Pilvet karkaa\, niin minäkin ja Laivat. Rauli Somerjoki syntyi 1947 Somerolla ja kuoli 1987 Helsingissä\, vain 39-vuotiaana. Musikaali kertoo Baddingin elämäntarinan; hän vietti lapsuutensa vaatimattomissa oloissa\, mutta teki läpimurron rockin kuninkaaksi 70-luvun alussa. Hänen elämäänsä varjostivat esiintymispelko ja runsas alkoholinkäyttö. Badding teki uuden nousun suureen suosioon 80-luvun alussa\, ja hänen taustayhtyeenään vaikutti silloin Agents. Musikaalissa käydään läpi Baddingin vaiherikas elämä aina kuolemaan asti. Musikaalin muita keskeisiä henkilöitä ovat Raulin äiti\, sisaret\, M.A. Numminen\, Topi Sorsakoski\, Muska Babitzin\, Timo Kojo ja Baddingin suurin esikuva\, Elvis Presley.  \nPääosassa Baddinginä nähdään Erik Kraemer. Erik on valovoimainen laulaja ja näyttelijä\, ja hänet on aiemmin nähty useissa Suomen Musiikkiteatterin esityksissä. Hän tavoittaa upeasti Baddingin olemuksen\, sekä vivahteikkaan ja herkän laulutavan tulkinnoissaan.  \nEsteettömän kulun varmistamiseksi inva- ja avustajaliput vain Suomen Musiikkiteatterin oman lipunmyynnin kautta: p. 044 3466 713 (ma-pe klo 09-17) / myynti@musiikkiteatteri.fi www.musiikkiteatteri.fi  \nLIPUT TÄÄLTÄ! 
URL:https://uittamo.fi/event/uittamon-kesateatteri-badding-musikaali-paratiisi/
LOCATION:Uittamo Paviljonki\, Rykmentintie 29\, TURKU\, 20880\, Suomi
CATEGORIES:Teatteri
ATTACH;FMTTYPE=image/jpeg:https://uittamo.fi/wp-content/uploads/2024/04/badding.jpg
END:VEVENT
BEGIN:VEVENT
DTSTART;TZID=UTC:20240806T120000
DTEND;TZID=UTC:20240806T210000
DTSTAMP:20260420T154634
CREATED:20240420T080735Z
LAST-MODIFIED:20240420T080735Z
UID:6872-1722945600-1722978000@uittamo.fi
SUMMARY:Uittamon kesäteatteri - Badding -musikaali Paratiisi
DESCRIPTION:Rauli Badding Somerjoki on suomalaisen rockin kiistaton kuningas\, todellinen legenda. Hänet tunnetaan miehenä\, joka pohjusti suomirockin. Hänen tunnetuimpia kappaleitaan ovat Fiilaten ja höyläten\, Ja rokki soi\, Paratiisi\, Ikkunaprinsessa\, Tähdet tähdet\, Pilvet karkaa\, niin minäkin ja Laivat. Rauli Somerjoki syntyi 1947 Somerolla ja kuoli 1987 Helsingissä\, vain 39-vuotiaana. Musikaali kertoo Baddingin elämäntarinan; hän vietti lapsuutensa vaatimattomissa oloissa\, mutta teki läpimurron rockin kuninkaaksi 70-luvun alussa. Hänen elämäänsä varjostivat esiintymispelko ja runsas alkoholinkäyttö. Badding teki uuden nousun suureen suosioon 80-luvun alussa\, ja hänen taustayhtyeenään vaikutti silloin Agents. Musikaalissa käydään läpi Baddingin vaiherikas elämä aina kuolemaan asti. Musikaalin muita keskeisiä henkilöitä ovat Raulin äiti\, sisaret\, M.A. Numminen\, Topi Sorsakoski\, Muska Babitzin\, Timo Kojo ja Baddingin suurin esikuva\, Elvis Presley.  \nPääosassa Baddinginä nähdään Erik Kraemer. Erik on valovoimainen laulaja ja näyttelijä\, ja hänet on aiemmin nähty useissa Suomen Musiikkiteatterin esityksissä. Hän tavoittaa upeasti Baddingin olemuksen\, sekä vivahteikkaan ja herkän laulutavan tulkinnoissaan.  \nEsteettömän kulun varmistamiseksi inva- ja avustajaliput vain Suomen Musiikkiteatterin oman lipunmyynnin kautta: p. 044 3466 713 (ma-pe klo 09-17) / myynti@musiikkiteatteri.fi www.musiikkiteatteri.fi       \nKlo 14 LIPUT TÄÄLTÄ!  \nKlo 18 LIPUT TÄÄLTÄ!
URL:https://uittamo.fi/event/uittamon-kesateatteri-badding-musikaali-paratiisi-2/
CATEGORIES:Teatteri
ATTACH;FMTTYPE=image/jpeg:https://uittamo.fi/wp-content/uploads/2024/04/badding.jpg
END:VEVENT
BEGIN:VEVENT
DTSTART;TZID=UTC:20240807T120000
DTEND;TZID=UTC:20240807T210000
DTSTAMP:20260420T154634
CREATED:20240417T142141Z
LAST-MODIFIED:20240417T142141Z
UID:6855-1723032000-1723064400@uittamo.fi
SUMMARY:Uittamon kesäteatteri - Dingo-musikaali AUTIOTALO
DESCRIPTION:Autiotalo-musikaali kertoo Dingo-yhtyeen ja sen keulakuvan Neumannin uskomattoman tarinan. Musikaali kertoo 80-luvun rock-ilmiöstä Suomessa\, jolloin Dingo aiheutti maanlaajuisen rockhysterian. Dingo rikkoi vuosien 1984-1986 aikana kaikki siihen asti tehdyt levy-ja konserttimyyntien ennätykset Suomessa.    \nTarina alkaa\, kun Pertti Nieminen niminen nuorukainen lähtee merille. Kun hän palaa Suomeen ja perustaa kavereidensa kanssa Dingon\, loppu onkin suomalaisen rock-musiikin historiaa. Yhtyeen musiikista pitivät kaiken ikäiset\, niin teinit kuin eläkeläiset. Fanit seurasivat yhtyettä joka paikkaan; odottivat porttikongeissa\, pyrkivät hotellihuoneisiin ja keikkabusseihin. Yhtyeen jäsenillä ei ollut yksityiselämää. Musikaali kertoo myös yhtyettä fanittavan perheen tarinaa. Mitä perheen miehet ajattelevat\, kun naiset hullaantuvat yhtyeeseen täysin? Perheen fanihysteriasta ei kommelluksia ja hauskuutta puutu. Lopulta Dingon menestys paisuu liian suureksi\, sen kulut kasvavat ja suosion lieveilmiöt alkavat häiritä. Dingo päättää lopettaa ollessaan suosionsa aallonharjalla. Musikaalissa kuullaan yhtyeen suosituimmat kappaleet kuten Autiotalo\, Sinä ja Minä\, Nahkatakkinen tyttö\, Valkoiset tiikerit ja Rio Ohoi. Kuullaanpa esityksessä myös joku Porirockin muukin helmi.    \nPääosassa Neumannina loistaa turkulainen laulaja ja useista musikaaleista tuttu Erik Kraemer. Muissa rooleissa nähdään mm. Evita Aaltonen/Elisa Lairikko\, Mirjam Paaso/ Sonja Lairikko\, Tatu Mönttinen/ Petri Lairikko\, Jussi Ojanen\, Timo Järvensivu\, Miika Raeniemi/ Simo Stenman\, Juha Kinnunen/ Kasperi Kinnunen    \nTule nauttimaan koskettavasta\, hauskasta ja vauhdikkaasta esityksestä!    \nEsteettömän kulun varmistamiseksi inva- ja avustajaliput vain Suomen Musiikkiteatterin oman lipunmyynnin kautta: p. 044 3466 713 (ma-pe klo 09-17) / myynti@musiikkiteatteri.fi www.musiikkiteatteri.fi    \nKlo 14 LIPUT TÄÄLTÄ! \nKlo 18  LIPUT TÄÄLTÄ!
URL:https://uittamo.fi/event/uittamon-kesateatteri-dingo-musikaali-autiotalo-14/
LOCATION:Uittamo Paviljonki\, Rykmentintie 29\, TURKU\, 20880\, Suomi
CATEGORIES:Teatteri
ATTACH;FMTTYPE=image/png:https://uittamo.fi/wp-content/uploads/2024/04/thumbnail_Dingo_Nettisivubanneri-768x329-1.png
END:VEVENT
BEGIN:VEVENT
DTSTART;TZID=UTC:20240809T150000
DTEND;TZID=UTC:20240809T210000
DTSTAMP:20260420T154634
CREATED:20240417T142354Z
LAST-MODIFIED:20240417T142354Z
UID:6857-1723215600-1723237200@uittamo.fi
SUMMARY:Uittamon kesäteatteri - Dingo-musikaali AUTIOTALO
DESCRIPTION:Autiotalo-musikaali kertoo Dingo-yhtyeen ja sen keulakuvan Neumannin uskomattoman tarinan. Musikaali kertoo 80-luvun rock-ilmiöstä Suomessa\, jolloin Dingo aiheutti maanlaajuisen rockhysterian. Dingo rikkoi vuosien 1984-1986 aikana kaikki siihen asti tehdyt levy-ja konserttimyyntien ennätykset Suomessa.    \nTarina alkaa\, kun Pertti Nieminen niminen nuorukainen lähtee merille. Kun hän palaa Suomeen ja perustaa kavereidensa kanssa Dingon\, loppu onkin suomalaisen rock-musiikin historiaa. Yhtyeen musiikista pitivät kaiken ikäiset\, niin teinit kuin eläkeläiset. Fanit seurasivat yhtyettä joka paikkaan; odottivat porttikongeissa\, pyrkivät hotellihuoneisiin ja keikkabusseihin. Yhtyeen jäsenillä ei ollut yksityiselämää. Musikaali kertoo myös yhtyettä fanittavan perheen tarinaa. Mitä perheen miehet ajattelevat\, kun naiset hullaantuvat yhtyeeseen täysin? Perheen fanihysteriasta ei kommelluksia ja hauskuutta puutu. Lopulta Dingon menestys paisuu liian suureksi\, sen kulut kasvavat ja suosion lieveilmiöt alkavat häiritä. Dingo päättää lopettaa ollessaan suosionsa aallonharjalla. Musikaalissa kuullaan yhtyeen suosituimmat kappaleet kuten Autiotalo\, Sinä ja Minä\, Nahkatakkinen tyttö\, Valkoiset tiikerit ja Rio Ohoi. Kuullaanpa esityksessä myös joku Porirockin muukin helmi.    \nPääosassa Neumannina loistaa turkulainen laulaja ja useista musikaaleista tuttu Erik Kraemer. Muissa rooleissa nähdään mm. Evita Aaltonen/Elisa Lairikko\, Mirjam Paaso/ Sonja Lairikko\, Tatu Mönttinen/ Petri Lairikko\, Jussi Ojanen\, Timo Järvensivu\, Miika Raeniemi/ Simo Stenman\, Juha Kinnunen/ Kasperi Kinnunen    \nTule nauttimaan koskettavasta\, hauskasta ja vauhdikkaasta esityksestä!    \nEsteettömän kulun varmistamiseksi inva- ja avustajaliput vain Suomen Musiikkiteatterin oman lipunmyynnin kautta: p. 044 3466 713 (ma-pe klo 09-17) / myynti@musiikkiteatteri.fi www.musiikkiteatteri.fi    \n LIPUT TÄÄLTÄ!
URL:https://uittamo.fi/event/uittamon-kesateatteri-dingo-musikaali-autiotalo-15/
LOCATION:Uittamo Paviljonki\, Rykmentintie 29\, TURKU\, 20880\, Suomi
CATEGORIES:Teatteri
ATTACH;FMTTYPE=image/png:https://uittamo.fi/wp-content/uploads/2024/04/thumbnail_Dingo_Nettisivubanneri-768x329-1.png
END:VEVENT
BEGIN:VEVENT
DTSTART;TZID=UTC:20240810T120000
DTEND;TZID=UTC:20240810T210000
DTSTAMP:20260420T154634
CREATED:20240417T143128Z
LAST-MODIFIED:20240417T143128Z
UID:6859-1723291200-1723323600@uittamo.fi
SUMMARY:Uittamon kesäteatteri - Dingo-musikaali AUTIOTALO
DESCRIPTION:Autiotalo-musikaali kertoo Dingo-yhtyeen ja sen keulakuvan Neumannin uskomattoman tarinan. Musikaali kertoo 80-luvun rock-ilmiöstä Suomessa\, jolloin Dingo aiheutti maanlaajuisen rockhysterian. Dingo rikkoi vuosien 1984-1986 aikana kaikki siihen asti tehdyt levy-ja konserttimyyntien ennätykset Suomessa.    \nTarina alkaa\, kun Pertti Nieminen niminen nuorukainen lähtee merille. Kun hän palaa Suomeen ja perustaa kavereidensa kanssa Dingon\, loppu onkin suomalaisen rock-musiikin historiaa. Yhtyeen musiikista pitivät kaiken ikäiset\, niin teinit kuin eläkeläiset. Fanit seurasivat yhtyettä joka paikkaan; odottivat porttikongeissa\, pyrkivät hotellihuoneisiin ja keikkabusseihin. Yhtyeen jäsenillä ei ollut yksityiselämää. Musikaali kertoo myös yhtyettä fanittavan perheen tarinaa. Mitä perheen miehet ajattelevat\, kun naiset hullaantuvat yhtyeeseen täysin? Perheen fanihysteriasta ei kommelluksia ja hauskuutta puutu. Lopulta Dingon menestys paisuu liian suureksi\, sen kulut kasvavat ja suosion lieveilmiöt alkavat häiritä. Dingo päättää lopettaa ollessaan suosionsa aallonharjalla. Musikaalissa kuullaan yhtyeen suosituimmat kappaleet kuten Autiotalo\, Sinä ja Minä\, Nahkatakkinen tyttö\, Valkoiset tiikerit ja Rio Ohoi. Kuullaanpa esityksessä myös joku Porirockin muukin helmi.    \nPääosassa Neumannina loistaa turkulainen laulaja ja useista musikaaleista tuttu Erik Kraemer. Muissa rooleissa nähdään mm. Evita Aaltonen/Elisa Lairikko\, Mirjam Paaso/ Sonja Lairikko\, Tatu Mönttinen/ Petri Lairikko\, Jussi Ojanen\, Timo Järvensivu\, Miika Raeniemi/ Simo Stenman\, Juha Kinnunen/ Kasperi Kinnunen    \nTule nauttimaan koskettavasta\, hauskasta ja vauhdikkaasta esityksestä!    \nEsteettömän kulun varmistamiseksi inva- ja avustajaliput vain Suomen Musiikkiteatterin oman lipunmyynnin kautta: p. 044 3466 713 (ma-pe klo 09-17) / myynti@musiikkiteatteri.fi www.musiikkiteatteri.fi    \nKlo 14  LIPUT TÄÄLTÄ! \nKlo 18  LIPUT TÄÄLTÄ!
URL:https://uittamo.fi/event/uittamon-kesateatteri-dingo-musikaali-autiotalo-16/
LOCATION:Uittamo Paviljonki\, Rykmentintie 29\, TURKU\, 20880\, Suomi
CATEGORIES:Teatteri
ATTACH;FMTTYPE=image/png:https://uittamo.fi/wp-content/uploads/2024/04/thumbnail_Dingo_Nettisivubanneri-768x329-1.png
END:VEVENT
BEGIN:VEVENT
DTSTART;TZID=UTC:20240814T120000
DTEND;TZID=UTC:20240814T210000
DTSTAMP:20260420T154634
CREATED:20240420T081117Z
LAST-MODIFIED:20240420T081117Z
UID:6874-1723636800-1723669200@uittamo.fi
SUMMARY:Uittamon kesäteatteri - Badding -musikaali Paratiisi
DESCRIPTION:Rauli Badding Somerjoki on suomalaisen rockin kiistaton kuningas\, todellinen legenda. Hänet tunnetaan miehenä\, joka pohjusti suomirockin. Hänen tunnetuimpia kappaleitaan ovat Fiilaten ja höyläten\, Ja rokki soi\, Paratiisi\, Ikkunaprinsessa\, Tähdet tähdet\, Pilvet karkaa\, niin minäkin ja Laivat. Rauli Somerjoki syntyi 1947 Somerolla ja kuoli 1987 Helsingissä\, vain 39-vuotiaana. Musikaali kertoo Baddingin elämäntarinan; hän vietti lapsuutensa vaatimattomissa oloissa\, mutta teki läpimurron rockin kuninkaaksi 70-luvun alussa. Hänen elämäänsä varjostivat esiintymispelko ja runsas alkoholinkäyttö. Badding teki uuden nousun suureen suosioon 80-luvun alussa\, ja hänen taustayhtyeenään vaikutti silloin Agents. Musikaalissa käydään läpi Baddingin vaiherikas elämä aina kuolemaan asti. Musikaalin muita keskeisiä henkilöitä ovat Raulin äiti\, sisaret\, M.A. Numminen\, Topi Sorsakoski\, Muska Babitzin\, Timo Kojo ja Baddingin suurin esikuva\, Elvis Presley.  \nPääosassa Baddinginä nähdään Erik Kraemer. Erik on valovoimainen laulaja ja näyttelijä\, ja hänet on aiemmin nähty useissa Suomen Musiikkiteatterin esityksissä. Hän tavoittaa upeasti Baddingin olemuksen\, sekä vivahteikkaan ja herkän laulutavan tulkinnoissaan.  \nEsteettömän kulun varmistamiseksi inva- ja avustajaliput vain Suomen Musiikkiteatterin oman lipunmyynnin kautta: p. 044 3466 713 (ma-pe klo 09-17) / myynti@musiikkiteatteri.fi www.musiikkiteatteri.fi  \nKlo 14 LIPUT TÄÄLTÄ!  \nKlo 18 LIPUT TÄÄLTÄ!
URL:https://uittamo.fi/event/uittamon-kesateatteri-badding-musikaali-paratiisi-3/
LOCATION:Uittamo Paviljonki\, Rykmentintie 29\, TURKU\, 20880\, Suomi
CATEGORIES:Teatteri
ATTACH;FMTTYPE=image/jpeg:https://uittamo.fi/wp-content/uploads/2024/04/badding.jpg
END:VEVENT
BEGIN:VEVENT
DTSTART;TZID=UTC:20240815T120000
DTEND;TZID=UTC:20240815T210000
DTSTAMP:20260420T154634
CREATED:20240417T144326Z
LAST-MODIFIED:20240417T144326Z
UID:6861-1723723200-1723755600@uittamo.fi
SUMMARY:Uittamon kesäteatteri - Dingo-musikaali AUTIOTALO
DESCRIPTION:Autiotalo-musikaali kertoo Dingo-yhtyeen ja sen keulakuvan Neumannin uskomattoman tarinan. Musikaali kertoo 80-luvun rock-ilmiöstä Suomessa\, jolloin Dingo aiheutti maanlaajuisen rockhysterian. Dingo rikkoi vuosien 1984-1986 aikana kaikki siihen asti tehdyt levy-ja konserttimyyntien ennätykset Suomessa.    \nTarina alkaa\, kun Pertti Nieminen niminen nuorukainen lähtee merille. Kun hän palaa Suomeen ja perustaa kavereidensa kanssa Dingon\, loppu onkin suomalaisen rock-musiikin historiaa. Yhtyeen musiikista pitivät kaiken ikäiset\, niin teinit kuin eläkeläiset. Fanit seurasivat yhtyettä joka paikkaan; odottivat porttikongeissa\, pyrkivät hotellihuoneisiin ja keikkabusseihin. Yhtyeen jäsenillä ei ollut yksityiselämää. Musikaali kertoo myös yhtyettä fanittavan perheen tarinaa. Mitä perheen miehet ajattelevat\, kun naiset hullaantuvat yhtyeeseen täysin? Perheen fanihysteriasta ei kommelluksia ja hauskuutta puutu. Lopulta Dingon menestys paisuu liian suureksi\, sen kulut kasvavat ja suosion lieveilmiöt alkavat häiritä. Dingo päättää lopettaa ollessaan suosionsa aallonharjalla. Musikaalissa kuullaan yhtyeen suosituimmat kappaleet kuten Autiotalo\, Sinä ja Minä\, Nahkatakkinen tyttö\, Valkoiset tiikerit ja Rio Ohoi. Kuullaanpa esityksessä myös joku Porirockin muukin helmi.    \nPääosassa Neumannina loistaa turkulainen laulaja ja useista musikaaleista tuttu Erik Kraemer. Muissa rooleissa nähdään mm. Evita Aaltonen/Elisa Lairikko\, Mirjam Paaso/ Sonja Lairikko\, Tatu Mönttinen/ Petri Lairikko\, Jussi Ojanen\, Timo Järvensivu\, Miika Raeniemi/ Simo Stenman\, Juha Kinnunen/ Kasperi Kinnunen    \nTule nauttimaan koskettavasta\, hauskasta ja vauhdikkaasta esityksestä!    \nEsteettömän kulun varmistamiseksi inva- ja avustajaliput vain Suomen Musiikkiteatterin oman lipunmyynnin kautta: p. 044 3466 713 (ma-pe klo 09-17) / myynti@musiikkiteatteri.fi www.musiikkiteatteri.fi    \nKlo 14 LIPUT TÄÄLTÄ! \nKlo 18 LIPUT TÄÄLTÄ! \n 
URL:https://uittamo.fi/event/uittamon-kesateatteri-dingo-musikaali-autiotalo-17/
LOCATION:Uittamo Paviljonki\, Rykmentintie 29\, TURKU\, 20880\, Suomi
CATEGORIES:Teatteri
ATTACH;FMTTYPE=image/png:https://uittamo.fi/wp-content/uploads/2024/04/thumbnail_Dingo_Nettisivubanneri-768x329-1.png
END:VEVENT
BEGIN:VEVENT
DTSTART;TZID=UTC:20240817T120000
DTEND;TZID=UTC:20240817T210000
DTSTAMP:20260420T154634
CREATED:20240417T144659Z
LAST-MODIFIED:20240417T144659Z
UID:6863-1723896000-1723928400@uittamo.fi
SUMMARY:Uittamon kesäteatteri - Dingo-musikaali AUTIOTALO
DESCRIPTION:Autiotalo-musikaali kertoo Dingo-yhtyeen ja sen keulakuvan Neumannin uskomattoman tarinan. Musikaali kertoo 80-luvun rock-ilmiöstä Suomessa\, jolloin Dingo aiheutti maanlaajuisen rockhysterian. Dingo rikkoi vuosien 1984-1986 aikana kaikki siihen asti tehdyt levy-ja konserttimyyntien ennätykset Suomessa.    \nTarina alkaa\, kun Pertti Nieminen niminen nuorukainen lähtee merille. Kun hän palaa Suomeen ja perustaa kavereidensa kanssa Dingon\, loppu onkin suomalaisen rock-musiikin historiaa. Yhtyeen musiikista pitivät kaiken ikäiset\, niin teinit kuin eläkeläiset. Fanit seurasivat yhtyettä joka paikkaan; odottivat porttikongeissa\, pyrkivät hotellihuoneisiin ja keikkabusseihin. Yhtyeen jäsenillä ei ollut yksityiselämää. Musikaali kertoo myös yhtyettä fanittavan perheen tarinaa. Mitä perheen miehet ajattelevat\, kun naiset hullaantuvat yhtyeeseen täysin? Perheen fanihysteriasta ei kommelluksia ja hauskuutta puutu. Lopulta Dingon menestys paisuu liian suureksi\, sen kulut kasvavat ja suosion lieveilmiöt alkavat häiritä. Dingo päättää lopettaa ollessaan suosionsa aallonharjalla. Musikaalissa kuullaan yhtyeen suosituimmat kappaleet kuten Autiotalo\, Sinä ja Minä\, Nahkatakkinen tyttö\, Valkoiset tiikerit ja Rio Ohoi. Kuullaanpa esityksessä myös joku Porirockin muukin helmi.    \nPääosassa Neumannina loistaa turkulainen laulaja ja useista musikaaleista tuttu Erik Kraemer. Muissa rooleissa nähdään mm. Evita Aaltonen/Elisa Lairikko\, Mirjam Paaso/ Sonja Lairikko\, Tatu Mönttinen/ Petri Lairikko\, Jussi Ojanen\, Timo Järvensivu\, Miika Raeniemi/ Simo Stenman\, Juha Kinnunen/ Kasperi Kinnunen    \nTule nauttimaan koskettavasta\, hauskasta ja vauhdikkaasta esityksestä!    \nEsteettömän kulun varmistamiseksi inva- ja avustajaliput vain Suomen Musiikkiteatterin oman lipunmyynnin kautta: p. 044 3466 713 (ma-pe klo 09-17) / myynti@musiikkiteatteri.fi www.musiikkiteatteri.fi    \nKlo 14 LIPUT TÄÄLTÄ! \nKlo 18  LIPUT TÄÄLTÄ!
URL:https://uittamo.fi/event/uittamon-kesateatteri-dingo-musikaali-autiotalo-18/
LOCATION:Uittamo Paviljonki\, Rykmentintie 29\, TURKU\, 20880\, Suomi
CATEGORIES:Teatteri
ATTACH;FMTTYPE=image/png:https://uittamo.fi/wp-content/uploads/2024/04/thumbnail_Dingo_Nettisivubanneri-768x329-1.png
END:VEVENT
BEGIN:VEVENT
DTSTART;TZID=UTC:20240829T150000
DTEND;TZID=UTC:20240829T210000
DTSTAMP:20260420T154634
CREATED:20240420T081537Z
LAST-MODIFIED:20240420T081537Z
UID:6876-1724943600-1724965200@uittamo.fi
SUMMARY:Uittamon kesäteatteri - Show Must Go On
DESCRIPTION:Show Must Go On on Queen-yhtyeen musiikkiin perustuva spektaakkeli huippulaulajineen\, bändin tyylille uskollisine pukuineen ja valoineen. Esitys on samalla kunnianosoitus kaikkien aikojen karismaattisimman laulajan\, Freddie Mercuryn muistolle. \nMercuryä esittää Mikael Saari\, jonka hurmaavaa Queen-tulkintaa on kuultu aiemmin muun muassa Tähdet Tähdet -laulukilpailussa. Suuri yleisö muistaa Mikaelin myös UMK-kilpailun finaalista\, jossa hän on ollut mukana jo peräti kaksi kertaa. Lisäksi Mikael on tullut katsojille tutuksi Suomen isoimpien teatterien lavoilla esiintyen ja useita musikaalirooleja tehden. \nQueen-yhtyeen rinnalla kulkee myös tarina suomalaisen Bohemians-yhtyeen hullunhauskasta retkestä maailmanvalloitukseen. Bohemians tulkitsee upeasti Queenin musiikkia\, mutta muutoin ei Lontoon matkalta kommelluksia puutu. \nMukana on Queenin värikylläiseen soundimaailmaan ammattimaisesti heittäytyvä yhtye. Mitkään sanat eivät riitä kuvaamaan tätä esitystä\, joten paras vaihtoehtosi on saapua paikalle ja kokea se itse! Esityksen on nähnyt jo 100.000 katsojaa! \nShowssa kuullaan Queenin elämää suuremmat hitit kuten I Want It All\, Bohemian Rhapsody\, We Are The Champions\, Show Must Go On\, Under Pressure\, ja monta muuta. \nEsteettömän kulun varmistamiseksi inva- ja avustajaliput vain Suomen Musiikkiteatterin oman lipunmyynnin kautta: p. 044 3466 713 (ma-pe klo 09-17) / myynti@musiikkiteatteri.fi \nLIPUT TÄÄLTÄ!
URL:https://uittamo.fi/event/uittamon-kesateatteri-show-must-go-on/
LOCATION:Uittamo Paviljonki\, Rykmentintie 29\, TURKU\, 20880\, Suomi
CATEGORIES:Teatteri
ATTACH;FMTTYPE=image/jpeg:https://uittamo.fi/wp-content/uploads/2024/04/smgo_mikael_5833-1024x796-1.jpg
END:VEVENT
BEGIN:VEVENT
DTSTART;TZID=UTC:20240830T150000
DTEND;TZID=UTC:20240830T210000
DTSTAMP:20260420T154634
CREATED:20240420T082154Z
LAST-MODIFIED:20240420T082154Z
UID:6879-1725030000-1725051600@uittamo.fi
SUMMARY:Uittamon kesäteatteri - Show Must Go On
DESCRIPTION:Show Must Go On on Queen-yhtyeen musiikkiin perustuva spektaakkeli huippulaulajineen\, bändin tyylille uskollisine pukuineen ja valoineen. Esitys on samalla kunnianosoitus kaikkien aikojen karismaattisimman laulajan\, Freddie Mercuryn muistolle. \nMercuryä esittää Mikael Saari\, jonka hurmaavaa Queen-tulkintaa on kuultu aiemmin muun muassa Tähdet Tähdet -laulukilpailussa. Suuri yleisö muistaa Mikaelin myös UMK-kilpailun finaalista\, jossa hän on ollut mukana jo peräti kaksi kertaa. Lisäksi Mikael on tullut katsojille tutuksi Suomen isoimpien teatterien lavoilla esiintyen ja useita musikaalirooleja tehden. \nQueen-yhtyeen rinnalla kulkee myös tarina suomalaisen Bohemians-yhtyeen hullunhauskasta retkestä maailmanvalloitukseen. Bohemians tulkitsee upeasti Queenin musiikkia\, mutta muutoin ei Lontoon matkalta kommelluksia puutu. \nMukana on Queenin värikylläiseen soundimaailmaan ammattimaisesti heittäytyvä yhtye. Mitkään sanat eivät riitä kuvaamaan tätä esitystä\, joten paras vaihtoehtosi on saapua paikalle ja kokea se itse! Esityksen on nähnyt jo 100.000 katsojaa! \nShowssa kuullaan Queenin elämää suuremmat hitit kuten I Want It All\, Bohemian Rhapsody\, We Are The Champions\, Show Must Go On\, Under Pressure\, ja monta muuta. \nEsteettömän kulun varmistamiseksi inva- ja avustajaliput vain Suomen Musiikkiteatterin oman lipunmyynnin kautta: p. 044 3466 713 (ma-pe klo 09-17) / myynti@musiikkiteatteri.fi \nLIPUT TÄÄLTÄ!
URL:https://uittamo.fi/event/uittamon-kesateatteri-show-must-go-on-2/
LOCATION:Uittamo Paviljonki\, Rykmentintie 29\, TURKU\, 20880\, Suomi
CATEGORIES:Teatteri
ATTACH;FMTTYPE=image/jpeg:https://uittamo.fi/wp-content/uploads/2024/04/smgo_mikael_5833-1024x796-1.jpg
END:VEVENT
BEGIN:VEVENT
DTSTART;TZID=UTC:20240831T120000
DTEND;TZID=UTC:20240831T210000
DTSTAMP:20260420T154634
CREATED:20240420T082849Z
LAST-MODIFIED:20240821T125915Z
UID:6881-1725105600-1725138000@uittamo.fi
SUMMARY:Uittamon kesäteatteri - ABBA - Dancing Queen
DESCRIPTION:Vaikka ABBA on pysytellyt poissa estradeilta 40 vuotta\, sen kultainen kimallus ei ole hiipunut minnekään. Ruotsalainen ABBA on edelleen yksi kaikkien suosituimmista ja myydyimmistä yhtyeistä\, jonka ajatonta diskopoppia rakastavat yhä kaikenikäiset kuulijat ympäri maailman. \nKoe Abban tarina uudelleen! Upea musiikki ja loistavat laulajat saavat aikaan sellaisen ilotulituksen\, että katsojat tempaistaan keskelle Abba-huumaa. ABBA Dancing Queenissa kuulet Suomen eturivin esiintyjät\, jotka tulkitsevat moniäänisesti huikeita ABBAn hittejä sellaisella taidolla\, ettei se voi olla viettelemättä katsojaa mukaansa. Abba-nelikkona nähdään upea kaarti:  Roosa-Maria Leppänen\,  Isabella Lairikko\, Olli Kärki ja Tuukka Jurkka. \nEsityksessä kuullaan muun muassa Mamma Mia\, Dancing Queen\, Fernando\, Waterloo\, Summer Night City\, Voulez Vous\, When I Kiss The Teacher\, Tiger… \nTämän lähemmäksi alkuperäisen ABBAn live-elämystä et pääse! \nEsteettömän kulun varmistamiseksi inva- ja avustajaliput vain Suomen Musiikkiteatterin oman lipunmyynnin kautta: p. 044 3466 713 (Ma-pe klo 09-17) / myynti@musiikkiteatteri.fi \n  \nKlo 14 LIPUT TÄÄLTÄ! \nKlo 18 LIPUT TÄÄLTÄ! \n 
URL:https://uittamo.fi/event/uittamon-kesateatteri-golden-abba-show/
LOCATION:Uittamo Paviljonki\, Rykmentintie 29\, TURKU\, 20880\, Suomi
CATEGORIES:Teatteri
ATTACH;FMTTYPE=image/jpeg:https://uittamo.fi/wp-content/uploads/2024/04/abba2022-47-1024x819-1.jpg
END:VEVENT
END:VCALENDAR