BEGIN:VCALENDAR
VERSION:2.0
PRODID:-//Uittamo - ECPv6.3.5//NONSGML v1.0//EN
CALSCALE:GREGORIAN
METHOD:PUBLISH
X-WR-CALNAME:Uittamo
X-ORIGINAL-URL:https://uittamo.fi
X-WR-CALDESC:Events for Uittamo
REFRESH-INTERVAL;VALUE=DURATION:PT1H
X-Robots-Tag:noindex
X-PUBLISHED-TTL:PT1H
BEGIN:VTIMEZONE
TZID:UTC
BEGIN:STANDARD
TZOFFSETFROM:+0000
TZOFFSETTO:+0000
TZNAME:UTC
DTSTART:20250101T000000
END:STANDARD
END:VTIMEZONE
BEGIN:VEVENT
DTSTART;TZID=UTC:20250912T180000
DTEND;TZID=UTC:20250912T200000
DTSTAMP:20260419T162446
CREATED:20250814T115047Z
LAST-MODIFIED:20250814T115047Z
UID:7713-1757700000-1757707200@uittamo.fi
SUMMARY:Raparperitaivas - ilta Göstan ja Leavingsin kanssa
DESCRIPTION:Gösta Sundqvist on todellinen suomirockin suurmies\, joka on jättänyt pysyvän jäljen suomalaiseen sielunmaisemaan. Raparperitavas on syväluotaus Göstan elämään ja musiikkiin.\nEsityksessä Gösta kertoo elämästään\, nuoruudestaan\, jalkapallosta\, kappaleiden synnystä\, ja maailman menosta – kaikki tämä göstamaisella huumorilla höystettynä. Illan mittaan hän tapaa monia ystäviään\, ja myös hänen laulujensa hauskat henkilöt heräävät eloon. \nEsityksessä kuullaan kaikki Leevi and the Leavingsin suurimmat hitit\, joten mahtavia kappaleita ja hulvatonta huumoria ei esityksestä puutu. \nPääosassa huikea laulaja\, Voice of Finland – finalisti AJ Keskinen. Muissa rooleissa Elisa Lairikko\, Simo Stenman ja Petri Lairikko\nKäsikirjoitus: Katariina Leino.\nEsteettömän kulun varmistamiseksi inva- ja avustajaliput vain Suomen Musiikkiteatterin oman lipunmyynnin kautta: p. 044 3466 713 (ma-pe klo 09-17) / myynti@musiikkiteatteri.fi \nTilaa väliaikatarjoilut ennakkoon Uittamo Paviljongin ravintolasta: +358 40 900 3841 / mari@staralone.fi\nRavintolassa A-oikeudet ja jo ennen näytöstä herkullinen noutopöytä (15\,90€/hlö) \nLiput näytökseen TÄÄLTÄ
URL:https://uittamo.fi/event/raparperitaivas-ilta-gostan-ja-leavingsin-kanssa/
LOCATION:Uittamo Paviljonki\, Rykmentintie 29\, TURKU\, 20880\, Suomi
CATEGORIES:Teatteri
ATTACH;FMTTYPE=image/jpeg:https://uittamo.fi/wp-content/uploads/2025/08/03d68900-216e-48f8-8542-df6be28da5dd_CUSTOM.jpg
END:VEVENT
BEGIN:VEVENT
DTSTART;TZID=UTC:20250913T160000
DTEND;TZID=UTC:20250913T183000
DTSTAMP:20260419T162446
CREATED:20250814T115300Z
LAST-MODIFIED:20250814T115300Z
UID:7716-1757779200-1757788200@uittamo.fi
SUMMARY:Raparperitaivas - ilta Göstan ja Leavingsin kanssa
DESCRIPTION:Gösta Sundqvist on todellinen suomirockin suurmies\, joka on jättänyt pysyvän jäljen suomalaiseen sielunmaisemaan. Raparperitavas on syväluotaus Göstan elämään ja musiikkiin.\nEsityksessä Gösta kertoo elämästään\, nuoruudestaan\, jalkapallosta\, kappaleiden synnystä\, ja maailman menosta – kaikki tämä göstamaisella huumorilla höystettynä. Illan mittaan hän tapaa monia ystäviään\, ja myös hänen laulujensa hauskat henkilöt heräävät eloon. \nEsityksessä kuullaan kaikki Leevi and the Leavingsin suurimmat hitit\, joten mahtavia kappaleita ja hulvatonta huumoria ei esityksestä puutu. \nPääosassa huikea laulaja\, Voice of Finland – finalisti AJ Keskinen. Muissa rooleissa Elisa Lairikko\, Simo Stenman ja Petri Lairikko\nKäsikirjoitus: Katariina Leino.\nEsteettömän kulun varmistamiseksi inva- ja avustajaliput vain Suomen Musiikkiteatterin oman lipunmyynnin kautta: p. 044 3466 713 (ma-pe klo 09-17) / myynti@musiikkiteatteri.fi \nTilaa väliaikatarjoilut ennakkoon Uittamo Paviljongin ravintolasta: +358 40 900 3841 / mari@staralone.fi\nRavintolassa A-oikeudet ja jo ennen näytöstä herkullinen noutopöytä (15\,90€/hlö) \nLiput näytökseen TÄÄLTÄ
URL:https://uittamo.fi/event/raparperitaivas-ilta-gostan-ja-leavingsin-kanssa-2/
LOCATION:Uittamo Paviljonki\, Rykmentintie 29\, TURKU\, 20880\, Suomi
CATEGORIES:Teatteri
ATTACH;FMTTYPE=image/jpeg:https://uittamo.fi/wp-content/uploads/2025/08/03d68900-216e-48f8-8542-df6be28da5dd_CUSTOM.jpg
END:VEVENT
END:VCALENDAR