BEGIN:VCALENDAR
VERSION:2.0
PRODID:-//Uittamo - ECPv6.3.5//NONSGML v1.0//EN
CALSCALE:GREGORIAN
METHOD:PUBLISH
X-WR-CALNAME:Uittamo
X-ORIGINAL-URL:https://uittamo.fi
X-WR-CALDESC:Events for Uittamo
REFRESH-INTERVAL;VALUE=DURATION:PT1H
X-Robots-Tag:noindex
X-PUBLISHED-TTL:PT1H
BEGIN:VTIMEZONE
TZID:UTC
BEGIN:STANDARD
TZOFFSETFROM:+0000
TZOFFSETTO:+0000
TZNAME:UTC
DTSTART:20210101T000000
END:STANDARD
END:VTIMEZONE
BEGIN:VEVENT
DTSTART;TZID=UTC:20210725T113000
DTEND;TZID=UTC:20210725T121500
DTSTAMP:20260425T030909
CREATED:20210707T101040Z
LAST-MODIFIED:20210707T101040Z
UID:654-1627212600-1627215300@uittamo.fi
SUMMARY:Turun Nuori Teatteri: Prinsessa Pikkiriikki
DESCRIPTION:Hannele Lampelan kirjasta dramatisoinut Lija Fischer\nOhjaus: Suvi Aarrekari \nPrinsessa Pikkiriikki herää aivan justiinsa niin\, kuin muinakin aamuina keltaisessa puutalossa\, jossa hänen lisäkseen asuvat Makkara-taikakoira sekä äiti ja isä. Aamupuuron jälkeen äiti kertoo järkyttävän uutisen – äidin sisuskaluihin on päässyt JOKU ja se JOKU aikoo muuttaa heille asumaan. Tämmöinen peli ei vetele. Onneksi Makkara taikoo kaikki aikuiset himpskattiin\, jotta Pikkiriikki voi tuumailla uutista oikeasta ja vasemmasta näkökulmasta. Hän ei aio jäädä märehtimään vaan lähtee seikkailemaan. Matkan varrella hän näyttää Räkä-Eetulle\, ettei hänelle ryttyillä ja tapaa oikean ystävän\, Prinsessa Pöjöläisen. Pikkiriikki tuntee kiukkukohtauksen saapuvan ihan justiinsa. Ja vaikka Makkara onkin ihan hyvä hipsuttaja\, tarvitaan paikalle urpoa pikkuveljeä kantava äiti parantamaan flunssainen Prinsessa Pikkiriikki. \nNäytökset Uittamon Paviljongin tanssilavalla\, Rykmentintie 29 20880 Turku. \nEsityksen kesto on noin 45 minuuttia\, ei väliaikaa. \nUittamon Paviljongilla on mahdollista myös ruokailla. Ravintolapalveluista vastaa Mari Harittu. Varaukset ja tiedustelut: mari@lonestar.fi / 040-9003841
URL:https://uittamo.fi/event/turun-nuori-teatteri-prinsessa-pikkiriikki-4/
LOCATION:Uittamo Paviljonki\, Rykmentintie 29\, TURKU\, 20880\, Suomi
CATEGORIES:Teatteri
ATTACH;FMTTYPE=image/jpeg:https://uittamo.fi/wp-content/uploads/2021/07/Pikkiriikkipikkulogonetti.jpeg
ORGANIZER;CN="Turun Nuoriteatteri":MAILTO:toimisto@turunnuoriteatteri.fi
END:VEVENT
BEGIN:VEVENT
DTSTART;TZID=UTC:20210725T140000
DTEND;TZID=UTC:20210725T144500
DTSTAMP:20260425T030909
CREATED:20210707T101157Z
LAST-MODIFIED:20210707T101157Z
UID:656-1627221600-1627224300@uittamo.fi
SUMMARY:Turun Nuori Teatteri: Prinsessa Pikkiriikki
DESCRIPTION:Hannele Lampelan kirjasta dramatisoinut Lija Fischer\nOhjaus: Suvi Aarrekari \nPrinsessa Pikkiriikki herää aivan justiinsa niin\, kuin muinakin aamuina keltaisessa puutalossa\, jossa hänen lisäkseen asuvat Makkara-taikakoira sekä äiti ja isä. Aamupuuron jälkeen äiti kertoo järkyttävän uutisen – äidin sisuskaluihin on päässyt JOKU ja se JOKU aikoo muuttaa heille asumaan. Tämmöinen peli ei vetele. Onneksi Makkara taikoo kaikki aikuiset himpskattiin\, jotta Pikkiriikki voi tuumailla uutista oikeasta ja vasemmasta näkökulmasta. Hän ei aio jäädä märehtimään vaan lähtee seikkailemaan. Matkan varrella hän näyttää Räkä-Eetulle\, ettei hänelle ryttyillä ja tapaa oikean ystävän\, Prinsessa Pöjöläisen. Pikkiriikki tuntee kiukkukohtauksen saapuvan ihan justiinsa. Ja vaikka Makkara onkin ihan hyvä hipsuttaja\, tarvitaan paikalle urpoa pikkuveljeä kantava äiti parantamaan flunssainen Prinsessa Pikkiriikki. \nNäytökset Uittamon Paviljongin tanssilavalla\, Rykmentintie 29 20880 Turku. \nEsityksen kesto on noin 45 minuuttia\, ei väliaikaa. \nUittamon Paviljongilla on mahdollista myös ruokailla. Ravintolapalveluista vastaa Mari Harittu. Varaukset ja tiedustelut: mari@lonestar.fi / 040-9003841
URL:https://uittamo.fi/event/turun-nuori-teatteri-prinsessa-pikkiriikki-5/
LOCATION:Uittamo Paviljonki\, Rykmentintie 29\, TURKU\, 20880\, Suomi
CATEGORIES:Teatteri
ATTACH;FMTTYPE=image/jpeg:https://uittamo.fi/wp-content/uploads/2021/07/Pikkiriikkipikkulogonetti.jpeg
ORGANIZER;CN="Turun Nuoriteatteri":MAILTO:toimisto@turunnuoriteatteri.fi
END:VEVENT
END:VCALENDAR