BEGIN:VCALENDAR
VERSION:2.0
PRODID:-//Uittamo - ECPv6.3.5//NONSGML v1.0//EN
CALSCALE:GREGORIAN
METHOD:PUBLISH
X-ORIGINAL-URL:https://uittamo.fi
X-WR-CALDESC:Events for Uittamo
REFRESH-INTERVAL;VALUE=DURATION:PT1H
X-Robots-Tag:noindex
X-PUBLISHED-TTL:PT1H
BEGIN:VTIMEZONE
TZID:UTC
BEGIN:STANDARD
TZOFFSETFROM:+0000
TZOFFSETTO:+0000
TZNAME:UTC
DTSTART:20240101T000000
END:STANDARD
END:VTIMEZONE
BEGIN:VEVENT
DTSTART;TZID=UTC:20240802T150000
DTEND;TZID=UTC:20240802T210000
DTSTAMP:20260420T173103
CREATED:20240417T141508Z
LAST-MODIFIED:20240417T141508Z
UID:6853-1722610800-1722632400@uittamo.fi
SUMMARY:Uittamon kesäteatteri - Dingo-musikaali AUTIOTALO
DESCRIPTION:Autiotalo-musikaali kertoo Dingo-yhtyeen ja sen keulakuvan Neumannin uskomattoman tarinan. Musikaali kertoo 80-luvun rock-ilmiöstä Suomessa\, jolloin Dingo aiheutti maanlaajuisen rockhysterian. Dingo rikkoi vuosien 1984-1986 aikana kaikki siihen asti tehdyt levy-ja konserttimyyntien ennätykset Suomessa.    \nTarina alkaa\, kun Pertti Nieminen niminen nuorukainen lähtee merille. Kun hän palaa Suomeen ja perustaa kavereidensa kanssa Dingon\, loppu onkin suomalaisen rock-musiikin historiaa. Yhtyeen musiikista pitivät kaiken ikäiset\, niin teinit kuin eläkeläiset. Fanit seurasivat yhtyettä joka paikkaan; odottivat porttikongeissa\, pyrkivät hotellihuoneisiin ja keikkabusseihin. Yhtyeen jäsenillä ei ollut yksityiselämää. Musikaali kertoo myös yhtyettä fanittavan perheen tarinaa. Mitä perheen miehet ajattelevat\, kun naiset hullaantuvat yhtyeeseen täysin? Perheen fanihysteriasta ei kommelluksia ja hauskuutta puutu. Lopulta Dingon menestys paisuu liian suureksi\, sen kulut kasvavat ja suosion lieveilmiöt alkavat häiritä. Dingo päättää lopettaa ollessaan suosionsa aallonharjalla. Musikaalissa kuullaan yhtyeen suosituimmat kappaleet kuten Autiotalo\, Sinä ja Minä\, Nahkatakkinen tyttö\, Valkoiset tiikerit ja Rio Ohoi. Kuullaanpa esityksessä myös joku Porirockin muukin helmi.    \nPääosassa Neumannina loistaa turkulainen laulaja ja useista musikaaleista tuttu Erik Kraemer. Muissa rooleissa nähdään mm. Evita Aaltonen/Elisa Lairikko\, Mirjam Paaso/ Sonja Lairikko\, Tatu Mönttinen/ Petri Lairikko\, Jussi Ojanen\, Timo Järvensivu\, Miika Raeniemi/ Simo Stenman\, Juha Kinnunen/ Kasperi Kinnunen    \nTule nauttimaan koskettavasta\, hauskasta ja vauhdikkaasta esityksestä!    \nEsteettömän kulun varmistamiseksi inva- ja avustajaliput vain Suomen Musiikkiteatterin oman lipunmyynnin kautta: p. 044 3466 713 (ma-pe klo 09-17) / myynti@musiikkiteatteri.fi www.musiikkiteatteri.fi    \n LIPUT TÄÄLTÄ!
URL:https://uittamo.fi/event/uittamon-kesateatteri-dingo-musikaali-autiotalo-13/
LOCATION:Uittamo Paviljonki\, Rykmentintie 29\, TURKU\, 20880\, Suomi
CATEGORIES:Teatteri
ATTACH;FMTTYPE=image/png:https://uittamo.fi/wp-content/uploads/2024/04/thumbnail_Dingo_Nettisivubanneri-768x329-1.png
END:VEVENT
END:VCALENDAR