BEGIN:VCALENDAR
VERSION:2.0
PRODID:-//Uittamo - ECPv6.3.5//NONSGML v1.0//EN
CALSCALE:GREGORIAN
METHOD:PUBLISH
X-ORIGINAL-URL:https://uittamo.fi
X-WR-CALDESC:Events for Uittamo
REFRESH-INTERVAL;VALUE=DURATION:PT1H
X-Robots-Tag:noindex
X-PUBLISHED-TTL:PT1H
BEGIN:VTIMEZONE
TZID:UTC
BEGIN:STANDARD
TZOFFSETFROM:+0000
TZOFFSETTO:+0000
TZNAME:UTC
DTSTART:20250101T000000
END:STANDARD
END:VTIMEZONE
BEGIN:VEVENT
DTSTART;TZID=UTC:20250829T180000
DTEND;TZID=UTC:20250829T203000
DTSTAMP:20260419T200641
CREATED:20250814T120422Z
LAST-MODIFIED:20250814T120422Z
UID:7718-1756490400-1756499400@uittamo.fi
SUMMARY:ABBA - Dancing Queen
DESCRIPTION:Vaikka ABBA on pysytellyt poissa estradeilta 40 vuotta\, sen kultainen kimallus ei ole hiipunut minnekään. Ruotsalainen ABBA on edelleen yksi kaikkien suosituimmista ja myydyimmistä yhtyeistä\, jonka ajatonta diskopoppia rakastavat yhä kaikenikäiset kuulijat ympäri maailman. \nKoe Abban tarina uudelleen! Upea musiikki\, loistavat laulajat ja tanssijat sekä sirkustaitelija saavat aikaan sellaisen ilotulituksen\, että katsojat tempaistaan keskelle Abba-huumaa. ABBA Dancing Queenissa kuulet Suomen eturivin esiintyjät\, jotka tulkitsevat moniäänisesti huikeita ABBAn hittejä sellaisella taidolla\, ettei se voi olla viettelemättä katsojaa mukaansa. Abba-nelikkona nähdään upea kaarti: Roosa-Maria Leppänen\, Isabella Lairikko\, tangokuningas Tommi Soidinmäki ja Tuukka Jurkka. \nShow sisältää upeaa koreografiaa\, sirkusnumeroita\, sekä glamoröösejä asusteita. Tanssijoina taiteilevat Silja Saarinen ja Ella Snellman\, sirkustaitelijana Susanna Liinamaa. \nEsityksessä kuullaan muun muassa Mamma Mia\, Dancing Queen\, Fernando\, Waterloo\, Summer Night City\, Voulez Vous\, When I Kiss The Teacher\, Tiger… \nTämän lähemmäksi alkuperäisen ABBAn live-elämystä et pääse! \nEsteettömän kulun varmistamiseksi inva- ja avustajaliput vain Suomen Musiikkiteatterin oman lipunmyynnin kautta: p. 044 3466 713 (ma-pe klo 09-17) / myynti@musiikkiteatteri.fi \nTilaa väliaikatarjoilut ennakkoon Uittamo Paviljongin ravintolasta: +358 40 900 3841 / mari@staralone.fi\nRavintolassa A-oikeudet ja jo ennen näytöstä herkullinen noutopöytä (15\,90€/hlö) \nOsta liput näytökseen TÄÄLTÄ
URL:https://uittamo.fi/event/abba-dancing-queen/
LOCATION:Uittamo Paviljonki\, Rykmentintie 29\, TURKU\, 20880\, Suomi
CATEGORIES:Teatteri
ATTACH;FMTTYPE=image/jpeg:https://uittamo.fi/wp-content/uploads/2025/08/abba-82-791x1024-1.jpg
END:VEVENT
END:VCALENDAR